BEGIN:VCALENDAR
VERSION:2.0
PRODID:-//Centrum Kultury Teatr w Grudziądzu - ECPv4.0.5//NONSGML v1.0//EN
CALSCALE:GREGORIAN
METHOD:PUBLISH
X-WR-CALNAME:Centrum Kultury Teatr w Grudziądzu
X-ORIGINAL-URL:http://teatr.grudziadz.pl
X-WR-CALDESC:Events for Centrum Kultury Teatr w Grudziądzu
BEGIN:VEVENT
DTSTART;TZID="Europe/Warsaw":20180202T193000
DTEND;TZID="Europe/Warsaw":20180202T193000
DTSTAMP:20260421T131301
CREATED:20171026T084814
LAST-MODIFIED:20180104T090621
UID:9830-1517599800-1517599800@teatr.grudziadz.pl
SUMMARY:Big Cyc – koncert
DESCRIPTION:Fani Big Cyca mogą zacierać ręce. Z okazji 30. rocznicy powstania\, BIG CYC wyruszy w trasę koncertową. Zaczynającą w styczniu. Trasa klubowa rusza 19 stycznia.\n\nBIG CYC to legendarna formacja cyrkowo-rockowa\, która wielokrotnie stawała się obiektem medialnych sensacji. Kariera grupy zaczęła się w poprzedniej epoce\, w czasach w których brakowało wszystkiego\, od jedzenia i picia\, po paszporty i walutę.\n\nBig Cyc wstrzelił się znakomicie w swój czas\, bo połączył melodyjny punk z ironią i kąśliwym humorem Pomarańczowej Alternatywy. Do dziś\, muzycy grający 30 lat w tym samym składzie\, tworzą jedną z najbarwniejszych i najbardziej oryginalnych formacji rockowych na polskim rynku muzycznym.\n\nAutorzy wielu nieśmiertelnych  przebojów ("Berlin Zachodni"\, "Makumba"\, "Rudy się żeni") i niezapomnianych płyt ("Z partyjnym pozdrowieniem "\, "Wojna plemników"\, "Moherowe berety") od lat walczą z paranoją codzienności w uszczypliwy sposób komentując zastaną rzeczywistość.\n\nGrupa ujawniła\, że oprócz znanych hitów w programie koncertów\, pojawią się dawno nie wykonywane piosenki z początku działalności oraz numery z ostatniej płyty „Czarne słońce narodu”.\n\nTen koncert będzie połączeniem trzęsienia ziemi z serią bolesnych elektrowstrząsów\, po których poczujecie się jak nowonarodzeni. Big Cyc zagra kipiący energią\, wybuchowy materiał dla fanów od lat 5 do 105.\n\nBig Cyc to rockowa lekcja historii w pigułce!\n\nMATKI CHOWAJCIE SWOJE CÓRKI \, CÓRKI CHOWAJCIE SWOJE MATKI NADCIĄGA BIG CYC!\n\n \n\nZagrają w składzie :\n\nDżej Dżej - bass wokal\n\nDżery - bęben\n\nPiękny Roman - gitara\n\nSkiba - atrakcja wieczoru\n\noraz\n\nGadak - klawisze\n\nMaras - gitara\n\n 
URL:http://teatr.grudziadz.pl/wydarzenie/big-cyc-koncert/
LOCATION:ul. Wybickiego 38
CATEGORIES:Koncert
ATTACH;FMTTYPE=image/jpeg:http://teatr.grudziadz.pl/wp-content/uploads/2017/10/Big-Cyc-30-lat-pocztówka-10x15cm-FRONT-RAMKA-Medium-2.jpg
ORGANIZER;CN="CK%20Teatr%20w%20Grudzi%C4%85dzu":MAILTO:ewelina@teatr.grudziadz.pl
END:VEVENT
END:VCALENDAR