BEGIN:VCALENDAR
VERSION:2.0
PRODID:-//Centrum Kultury Teatr w Grudziądzu - ECPv4.0.5//NONSGML v1.0//EN
CALSCALE:GREGORIAN
METHOD:PUBLISH
X-WR-CALNAME:Centrum Kultury Teatr w Grudziądzu
X-ORIGINAL-URL:http://teatr.grudziadz.pl
X-WR-CALDESC:Events for Centrum Kultury Teatr w Grudziądzu
BEGIN:VEVENT
DTSTART;TZID="Europe/Warsaw":20240203T150000
DTEND;TZID="Europe/Warsaw":20240203T150000
DTSTAMP:20260421T090419
CREATED:20231205T104137
LAST-MODIFIED:20231205T104137
UID:44198-1706972400-1706972400@teatr.grudziadz.pl
SUMMARY:Bing na żywo - Wielkie Urodziny
DESCRIPTION:\n\nBing na Żywo – Wielkie Urodziny\n\nWspaniała wiadomość dla Bingusiów i ich bliskich! Po ogromnym sukcesie serialu Bing\, najbardziej uwielbiany przez dzieci na całym świecie króliczek Bing\, wraz ze swoimi przyjaciółmi\, odwiedzi teatry w całej Polsce!\n\n\n\n\nPremierowy spektakl Bing na Żywo „Wielkie Urodziny” to międzynarodowa produkcja w języku polskim\, została zrealizowany pod czujnym okiem twórców animacji\, z myślą o najmłodszych widzach\, doskonale dostosowany do ich percepcji. W spektaklu pojawiają się dziecięce postacie Bing\, Sula\, Coco\, Pando\, Flop w formie przepięknych wielkoformatowych lalek\, które są na żywo animowane są przez utalentowanych polskich aktorów. Bing na żywo to wielka teatralna przygoda\, wspaniała scenografia\, wesołe piosenki i duża dawka interakcji z małymi widzami. Dla najmłodszych to wyjątkowa okazja zobaczenia na żywo króliczka Binga i jego przyjaciół!\n\n\n\n\nSpektakl przeznaczony jest dla dzieci w wieku przedszkolnym. Rozwija umiejętności społeczne\, buduje pozytywne wzorce zachowań\, podpowiada\, jak nawiązywać relacje z rówieśnikami oraz dorosłymi. Uczy\, jak radzić sobie z emocjami\, uczuciami\, czym jest przyjaźń\, akceptacja\, tolerancja\, współpraca\, współzawodnictwo oraz jak rozwiązywać konflikty z poszanowaniem dla innych osób.\n\n\n\n\nZapraszamy całe rodziny na pierwsze wspólne wyjście do teatru!\n\n\n\n\nPamiętajcie: Bing na Żywo – to wielka rzecz!\n\n\n\n\n\n\nBILETY I WIĘCEJ INFORMACJI:\n[button link="https://www.facebook.com/events/953806062354218/953806065687551/" type="big"] Facebook[/button]\n\n\n
URL:http://teatr.grudziadz.pl/wydarzenie/bing-na-zywo-wielkie-urodziny-2/
LOCATION:Teatralna\, 1\, Grudziądz\, 86-300\, Polska
CATEGORIES:Spektakle
ATTACH;FMTTYPE=image/jpeg:http://teatr.grudziadz.pl/wp-content/uploads/2023/11/374736184_157467157397435_4280530207776494992_n.jpg
ORGANIZER;CN="CK%20Teatr%20w%20Grudzi%C4%85dzu":MAILTO:oliwia@teatr.grudziadz.pl
END:VEVENT
END:VCALENDAR