BEGIN:VCALENDAR
VERSION:2.0
PRODID:-//Centrum Kultury Teatr w Grudziądzu - ECPv4.0.5//NONSGML v1.0//EN
CALSCALE:GREGORIAN
METHOD:PUBLISH
X-WR-CALNAME:Centrum Kultury Teatr w Grudziądzu
X-ORIGINAL-URL:http://teatr.grudziadz.pl
X-WR-CALDESC:Events for Centrum Kultury Teatr w Grudziądzu
BEGIN:VEVENT
DTSTART;TZID="Europe/Warsaw":20191116T180000
DTEND;TZID="Europe/Warsaw":20191116T180000
DTSTAMP:20260426T020253
CREATED:20191015T071822
LAST-MODIFIED:20191107T143040
UID:18338-1573927200-1573927200@teatr.grudziadz.pl
SUMMARY:Bluesqua – koncert charytatywny  na rzecz Stowarzyszenia „Zatrzymaj się...”
DESCRIPTION:Zapraszamy na tradycyjny jesienny koncert z zespołem Bluesqua...w tym roku nieco zmieniła się formuła. Będzie to "zwyczajny" koncert na który zamiast biletów obowiązują wolne datki\, a całkowity dochód zostanie przeznaczony na działalność stowarzyszenia "Zatrzymaj się...".\n\nStowarzyszenie zajmuje się wsparciem opieki paliatywnej w naszym mieście\,poprzez zakup sprzętu medycznego potrzebnego chorym w domu. Za kwotę zebraną podczas ubiegłorocznego koncertu udało się zakupić kolejny koncentrator tlenu\, który obecnie jest użytkowany przez pacjentów Hospicjum Domowego. Poza wsparciem rzeczowym\, stowarzyszenie od kilku lat organizuje piknik nad jeziorem Rudnik (dzięki uprzejmości pana Klucznika właściciela plaży Delfin) dla pacjentów Hospicjum oraz ich rodzin\, aby dać choć chwilę wytchnienia w tym trudnym dla wszystkich okresie życia. Serdecznie zapraszamy do posłuchania dobrej muzyki\, na chwilę relaksu i zadumy...oraz oczywiście wsparcie stowarzyszenia.\n\n \n\n 
URL:http://teatr.grudziadz.pl/wydarzenie/bluesqua-koncert-2/
LOCATION:ul. Wybickiego 38
CATEGORIES:Koncert
ATTACH;FMTTYPE=image/jpeg:http://teatr.grudziadz.pl/wp-content/uploads/2019/10/koncert-charytatywny-Bluesqua-2.jpg
ORGANIZER;CN="CK%20Teatr%20w%20Grudzi%C4%85dzu":MAILTO:oliwia@teatr.grudziadz.pl
END:VEVENT
END:VCALENDAR