BEGIN:VCALENDAR
VERSION:2.0
PRODID:-//Centrum Kultury Teatr w Grudziądzu - ECPv4.0.5//NONSGML v1.0//EN
CALSCALE:GREGORIAN
METHOD:PUBLISH
X-WR-CALNAME:Centrum Kultury Teatr w Grudziądzu
X-ORIGINAL-URL:http://teatr.grudziadz.pl
X-WR-CALDESC:Events for Centrum Kultury Teatr w Grudziądzu
BEGIN:VEVENT
DTSTART;TZID="Europe/Warsaw":20200619T200000
DTEND;TZID="Europe/Warsaw":20200619T200000
DTSTAMP:20260422T075242
CREATED:20200610T082700
LAST-MODIFIED:20200610T085733
UID:21393-1592596800-1592596800@teatr.grudziadz.pl
SUMMARY:Jarmark Spichrzowy 2020 #wsieci - Koncert zespołu Cela nr 3
DESCRIPTION:Cela nr 3 to zespół od zawsze silnie związany z miastem\, tu zaczynali swoją muzyczną drogę i tu cały czas ją kontynuują. Muzycy na koncertach w rodzinnym mieście zawsze mają komplet na widowni. Niestety w związku z pandemią tym razem nie możemy spotkać się na wspólnym koncercie w Klubie Akcent – ale postarajmy się być razem w sieci.\nCela nr 3 z powodzeniem występuje w całej Polsce\, grając na festiwalach i w klubach\, mają za sobą też cykl udanych koncertów w Londynie. Mamy nadzieję\, że ich piątkowy koncert transmitowany w sieci z Klubu Akcent będzie miał widownię z różnych części Polski i Europy\, a może i odleglejszych części świata.\n\nZespół zagra z okazji święta miasta\, a przypomnijmy Grudziądz prawa miejskie otrzymał w 1291 roku. Zapraszamy na wyjątkowy koncert Celi nr 3\, który będzie można oglądać przed ekranami komputerów\, telewizorów i smartfonów. Transmisja online już 19 czerwca o godzinie 20:00 na profilu Facebook Klubu Akcent.  Link do transmisji pojawi się w dniu koncertu.\nCela nr 3\nW 1984 roku rozpoczynali grę w różnych zespołach: najpierw była Kaplica\, później Izba Wytrzeźwień\, Sherman\, Zanik Pamięci\, no i w końcu Cela nr 3. Zaczęły się próby\, koncerty w okolicach Grudziądza i wreszcie w 1987 roku po uprzednim wysłaniu kasety z nagraniami\, zakwalifikowano ich na Festiwal Muzyków Rockowych „Jarocin’87”. Co prawda na małą scenę\, ale kto wtedy na to patrzył? Liczyło się\, że to był Jarocin. Po Jarocinie częściej zaczęły napływać propozycje i zaproszenia. Wtedy zaczęło się koncertowanie po Polsce. Grali wszędzie tam\, gdzie ich zapraszano. Do roku 1989 kilka razy zmieniał się skład\, a w 1990 roku „z przyczyn obiektywnych” ich drogi się rozeszły. Po pięcioletniej przerwie przypadek zrządził\, że spotkali się ponownie. Jak mówią: „w czasie rozmowy przy piwku” padła propozycja żeby spróbować znowu wspólnego grania. Od słowa do czynu krótka była droga i po kilku dniach zaczęli pierwsze próby. Potem już poszło z górki - próby\, koncerty – m.in.\nPunkowa Orkiestra Świątecznej Pomocy i wiele innych. Grali na jednej scenie m.in. z Guitar Gangsters\, G.B.H.\, Angelic Upstarts\, Vibrators\, UK Subs oraz z wieloma bardzo dobrymi kapelami z „ich podwórka”.\nSkład zespołu:\nWiesław „Gruby” Panter – głos\, bas \n Krzysztof „Dee Dee” Panter – gitara. Głos\n Andrzej „Anda” Krajewski – bas\n Rafał Stelmaszuk – bębny\n\n\nORGANIZATORZY\n                                                                
URL:http://teatr.grudziadz.pl/wydarzenie/cela-nr-3-koncert-2/
LOCATION:ul. Wybickiego 38
CATEGORIES:Jarmark Spichrzowy
ATTACH;FMTTYPE=image/png:http://teatr.grudziadz.pl/wp-content/uploads/2020/06/cela_nr_3_jarmark-01.png
ORGANIZER;CN="CK%20Teatr%20w%20Grudzi%C4%85dzu":MAILTO:oliwia@teatr.grudziadz.pl
END:VEVENT
END:VCALENDAR