BEGIN:VCALENDAR
VERSION:2.0
PRODID:-//Centrum Kultury Teatr w Grudziądzu - ECPv4.0.5//NONSGML v1.0//EN
CALSCALE:GREGORIAN
METHOD:PUBLISH
X-WR-CALNAME:Centrum Kultury Teatr w Grudziądzu
X-ORIGINAL-URL:http://teatr.grudziadz.pl
X-WR-CALDESC:Events for Centrum Kultury Teatr w Grudziądzu
BEGIN:VEVENT
DTSTART;TZID="Europe/Warsaw":20210529T190000
DTEND;TZID="Europe/Warsaw":20210529T190000
DTSTAMP:20260422T124429
CREATED:20210504T103211
LAST-MODIFIED:20210526T104035
UID:23873-1622314800-1622314800@teatr.grudziadz.pl
SUMMARY:Daria Zawiałow HELSINKI TOUR 3.0 KONCERT PRZENIESIONY NA 12.06.
DESCRIPTION:W związku z zawirowaniami wokół luzowania obostrzeń w temacie koncertów muzycznych\, po rozmowach z menagmentem zespołu - jesteśmy zmuszeni koncert Darii Zawiałow "Ostatni raz w Helsinkach" przenieść na dzień 12 czerwca. Bilety zachowują ważność – są jeszcze wolne miejsca na godzinę 21.15 – zapraszamy do kasy.\nSukcesy pierwszej i drugiej odsłony trasy\, wyprzedane sale i wiele pytań o kolejne koncerty skłoniły zespół do ruszenia w trzecią odsłonę trasy pod tytułem\, Helsinki Tour 3.0. Dodatkową motywacją są doskonale przyjęte przez publiczność single z albumu Helsinki.\nCiągła obecność Szarówki\, Hej Hej\, czy Punk fu na wysokich rotacjach odtworzeń\, wysokich miejscach na listach przebojów sprawiają\, że zapotrzebowanie na koncerty stale utrzymuje się na wysokim poziomie. Daria Zawiałow z kolegami z zespołu wychodzi temu naprzeciw. Zimą i wiosną 2020 odwiedzą miejsca do których Helsinki jeszcze nie zawitały i miasta\, w których zabrakło biletów na długo przed koncertami.\n\n\n\n \n[button link="https://www.kupbilecik.pl/imprezy/50877/Grudziądz/Daria+Zawiałow/" type="big" newwindow="yes"] KUP BILETY[/button]
URL:http://teatr.grudziadz.pl/wydarzenie/daria-zawialow-helsinki-tour-3-0-koncert/
LOCATION:Teatralna\, 1\, Grudziądz\, 86-300\, Polska
CATEGORIES:Koncert
ATTACH;FMTTYPE=image/jpeg:http://teatr.grudziadz.pl/wp-content/uploads/2020/11/20200916_zawialow.jpg
ORGANIZER;CN="CK%20Teatr%20w%20Grudzi%C4%85dzu":MAILTO:oliwia@teatr.grudziadz.pl
END:VEVENT
END:VCALENDAR