BEGIN:VCALENDAR
VERSION:2.0
PRODID:-//Centrum Kultury Teatr w Grudziądzu - ECPv4.0.5//NONSGML v1.0//EN
CALSCALE:GREGORIAN
METHOD:PUBLISH
X-WR-CALNAME:Centrum Kultury Teatr w Grudziądzu
X-ORIGINAL-URL:http://teatr.grudziadz.pl
X-WR-CALDESC:Events for Centrum Kultury Teatr w Grudziądzu
BEGIN:VEVENT
DTSTART;TZID="Europe/Warsaw":20211118T190000
DTEND;TZID="Europe/Warsaw":20211118T190000
DTSTAMP:20260422T041618
CREATED:20211008T115744
LAST-MODIFIED:20211103T130530
UID:25790-1637262000-1637262000@teatr.grudziadz.pl
SUMMARY:DKF: „Jeszcze wyjdzie słońce” – dokument\, pokaz premierowy
DESCRIPTION:scenariusz\, reżyseria Michał Nowakowski\ngodz.19.00\nbilety cegiełki 5/7zł (wspieramy bohatera filmu i jego rodzinę) \nSą takie momenty w historii grudziądzkiego DKF-u nacechowane szczególnymi emocjami\, jak na przykład spełnianie marzeń. Oto nasz teatralny\, a dokładnie telewizyjny kolega – Michał Nowakowski marzył o tym\, aby zrobić film\, w którym pochyli się nie tylko nad ważnym tematem\, ale przede wszystkim nad człowiekiem i nad jego historią.\nZapraszamy na premierowy pokaz filmu „Jeszcze wyjdzie słońce”\, którego autorem jest nasz teatralny kolega Michał Nowakowski. Projekt został dofinansowany ze środków Stypendium Artystycznego Prezydenta Grudziądza.\n\n[gallery columns="4" ids="26540\,26541\,26542\,26543"]\nAutor o filmie:\nJeszcze wyjdzie słońce – film dokumentalny\, który powstał po to\, aby przedstawić trud życia rodziny mieszkającej wśród nas w Grudziądzu. W filmie jako głównego bohatera zobaczymy mężczyznę\, który mimo swojego wieku nie poddaje się i nadal walczy o dobro rodziny wstając o świcie i rozwożąc chleb. Jednak po powrocie z pracy okazuje się\, że w domu czeka go dużo cięższe zadanie. „Jeszcze wyjdzie słońce” to film dyplomowy\, który w Warszawskiej Szkole Filmowej został oceniony bardzo dobrze. Teraz czeka na ocenę widzów naszego miasta.\nAutor o sobie:\nMam 23 lata. Od urodzenia mieszkam w Grudziądzu. Jestem absolwentem Warszawskiej Szkoły Filmowej Macieja Ślesickiego i Bogusława Lindy. Studia ukończyłem na kierunku Film i Multimedia - Specjalność Montaż Filmowy. Na co dzień pracuję w Centrum Kultury Teatr\, gdzie od prawie czterech lat współtworzę Magazyn Qltura. W tym czasie udało mi się zrealizować ponad 300 materiałów filmowych w ramach Magazynu Qltura. Hobbystycznie zajmuję się solarigrafią\, interesuję się też lotnictwem. Jestem stypendystą Prezydenta Grudziądza Macieja Glamowskiego.\n\n
URL:http://teatr.grudziadz.pl/wydarzenie/dkf-10/
LOCATION:Teatralna\, 1\, Grudziądz\, 86-300\, Polska
CATEGORIES:DKF
ATTACH;FMTTYPE=image/jpeg:http://teatr.grudziadz.pl/wp-content/uploads/2021/10/michal-palakt2-e1635944619804.jpg
ORGANIZER;CN="CK%20Teatr%20w%20Grudzi%C4%85dzu":MAILTO:oliwia@teatr.grudziadz.pl
END:VEVENT
END:VCALENDAR