BEGIN:VCALENDAR
VERSION:2.0
PRODID:-//Centrum Kultury Teatr w Grudziądzu - ECPv4.0.5//NONSGML v1.0//EN
CALSCALE:GREGORIAN
METHOD:PUBLISH
X-WR-CALNAME:Centrum Kultury Teatr w Grudziądzu
X-ORIGINAL-URL:http://teatr.grudziadz.pl
X-WR-CALDESC:Events for Centrum Kultury Teatr w Grudziądzu
BEGIN:VEVENT
DTSTART;TZID="Europe/Warsaw":20160121T190000
DTEND;TZID="Europe/Warsaw":20160121T190000
DTSTAMP:20260422T215042
CREATED:20160321T105416
LAST-MODIFIED:20160321T105416
UID:2421-1453402800-1453402800@teatr.grudziadz.pl
SUMMARY:Dyskusyjny Klub Filmowy - "Locke" reż. Steven Knight
DESCRIPTION:
URL:http://teatr.grudziadz.pl/wydarzenie/dyskusyjny-klub-filmowy-locke-rez-steven-knight/
LOCATION:Teatralna\, 1\, Grudziądz\, 86-300\, Polska
CATEGORIES:Spektakle
ORGANIZER;CN="CK%20Teatr%20w%20Grudzi%C4%85dzu":MAILTO:szymon.r@teatr.grudziadz.pl
END:VEVENT
END:VCALENDAR