BEGIN:VCALENDAR
VERSION:2.0
PRODID:-//Centrum Kultury Teatr w Grudziądzu - ECPv4.0.5//NONSGML v1.0//EN
CALSCALE:GREGORIAN
METHOD:PUBLISH
X-WR-CALNAME:Centrum Kultury Teatr w Grudziądzu
X-ORIGINAL-URL:http://teatr.grudziadz.pl
X-WR-CALDESC:Events for Centrum Kultury Teatr w Grudziądzu
BEGIN:VEVENT
DTSTART;TZID="Europe/Warsaw":20200531T000000
DTEND;TZID="Europe/Warsaw":20200531T000000
DTSTAMP:20260424T092318
CREATED:20191220T103252
LAST-MODIFIED:20200113T094623
UID:19299-1590883200-1590883200@teatr.grudziadz.pl
SUMMARY:Dzień Dziecka
DESCRIPTION:wkrótce
URL:http://teatr.grudziadz.pl/wydarzenie/dzien-dziecka/
LOCATION:Teatralna\, 1\, Grudziądz\, 86-300\, Polska
CATEGORIES:Koncert,Plenery,Spektakle
ORGANIZER;CN="CK%20Teatr%20w%20Grudzi%C4%85dzu":MAILTO:oliwia@teatr.grudziadz.pl
END:VEVENT
END:VCALENDAR