BEGIN:VCALENDAR
VERSION:2.0
PRODID:-//Centrum Kultury Teatr w Grudziądzu - ECPv4.0.5//NONSGML v1.0//EN
CALSCALE:GREGORIAN
METHOD:PUBLISH
X-WR-CALNAME:Centrum Kultury Teatr w Grudziądzu
X-ORIGINAL-URL:http://teatr.grudziadz.pl
X-WR-CALDESC:Events for Centrum Kultury Teatr w Grudziądzu
BEGIN:VEVENT
DTSTART;TZID="Europe/Warsaw":20241108T180000
DTEND;TZID="Europe/Warsaw":20241108T180000
DTSTAMP:20260420T010724
CREATED:20241022T173001
LAST-MODIFIED:20241027T211440
UID:47906-1731088800-1731088800@teatr.grudziadz.pl
SUMMARY:Finisaż wystawy “Moje sacrum” z udziałem artystów
DESCRIPTION:Wystawa zbiorowa:\nHenryk Dudek\nAndrzej Fedder\nMarlena Kminikowska-Grzesiak\nCezary Kopik\nJózef Mrotek\nZbigniew Tubisz\nKlara Stolp\nCezary Zbrojewski\n\nSacrum to sfera świętości…’’- dotyczy poznawania świata w sposób mistyczny i\nsymboliczny na drodze przemyśleń. Jest \,\,mocą’’\, która wpływa na wybór wartości\nduchowych pomagających odnaleźć punkt statyczny pośród chaosu tego świata. Wg\nMircea Eliade’a sacrum dotyczy przeżyć osobistych na które wpływa wszystko co nas\notacza: kosmos\, ziemia\, góry\, woda\, kamienie\, rośliny\, miejsca i symbole. Ten sposób\npojmowania świętości nadaje porządek światu\, a także wyzwala uczucie bezpieczeństwa i\nsens istnienia. Fascynacja tematem skłoniła grupę artystów do pochylenia się nad\ntajemnicą sacrum\, ponieważ przemyślenia i związane z tym emocje przedstawiane są w\npracach w sposób szczególny.\n\nWykorzystane narzędzia i techniki plastyczne wzmocniły tematykę i uczyniły ją\nbardziej zrozumiałą dla odbiorcy. Pomysł ukazania tematu sacrum w sztuce zainicjowała\nznana grudziądzka artystka Klara Stolp. Sensem tego przedsięwzięcia jest komunikacja\nna poziomie społecznym\, który zakończył się aktem twórczym grupy artystów dla których\ntemat sacrum jest ważny i święty.\n\nMarlena Kminikowska- Grzesiak\n\nPrezentowane prace wykonane zostały w technikach: malarstwo olejne\, rzeźba\, techniki\nmieszane i fotografia. Grupa artystów od lat wystawia swoje prace o tematyce Sacrum w\nBydgoszczy.\n\n[gallery link="none" size="medium" ids="47957\,47958\,47959\,47960\,47961\,47962"]
URL:http://teatr.grudziadz.pl/wydarzenie/finisaz-wystawy-moje-sacrum-z-udzialem-artystow/
LOCATION:ul. Wybickiego 38\, Grudziądz
CATEGORIES:Wystawy
ATTACH;FMTTYPE=image/jpeg:http://teatr.grudziadz.pl/wp-content/uploads/2024/10/wystawa-Sacrum.jpg
END:VEVENT
END:VCALENDAR