BEGIN:VCALENDAR
VERSION:2.0
PRODID:-//Centrum Kultury Teatr w Grudziądzu - ECPv4.0.5//NONSGML v1.0//EN
CALSCALE:GREGORIAN
METHOD:PUBLISH
X-WR-CALNAME:Centrum Kultury Teatr w Grudziądzu
X-ORIGINAL-URL:http://teatr.grudziadz.pl
X-WR-CALDESC:Events for Centrum Kultury Teatr w Grudziądzu
BEGIN:VEVENT
DTSTART;TZID="Europe/Warsaw":20220602T000000
DTEND;TZID="Europe/Warsaw":20220602T000000
DTSTAMP:20260421T051505
CREATED:20220504T133431
LAST-MODIFIED:20220504T133431
UID:30585-1654128000-1654128000@teatr.grudziadz.pl
SUMMARY:Gala Sportowców - impreza zamknięta
DESCRIPTION:impreza zamknięta
URL:http://teatr.grudziadz.pl/wydarzenie/gala-sportowcow-impreza-zamknieta/
LOCATION:Teatralna\, 1\, Grudziądz\, 86-300\, Polska
CATEGORIES:Wynajem
END:VEVENT
END:VCALENDAR