BEGIN:VCALENDAR
VERSION:2.0
PRODID:-//Centrum Kultury Teatr w Grudziądzu - ECPv4.0.5//NONSGML v1.0//EN
CALSCALE:GREGORIAN
METHOD:PUBLISH
X-WR-CALNAME:Centrum Kultury Teatr w Grudziądzu
X-ORIGINAL-URL:http://teatr.grudziadz.pl
X-WR-CALDESC:Events for Centrum Kultury Teatr w Grudziądzu
BEGIN:VEVENT
DTSTART;TZID="Europe/Warsaw":20200511T000000
DTEND;TZID="Europe/Warsaw":20200515T000000
DTSTAMP:20260422T123256
CREATED:20191220T101545
LAST-MODIFIED:20200428T074803
UID:19289-1589155200-1589500800@teatr.grudziadz.pl
SUMMARY:Grudziądzka Kieszeń Sceniczna ODWOŁANA
DESCRIPTION:Centrum Kultury Teatr w Grudziądzu ma przyjemność zaprosić dzieci\, młodzież\, nauczycieli i instruktorów\, prowadzących amatorskie grupy teatralne w ośrodkach kultury\, szkołach podstawowych i średnich\, do udziału w corocznych konfrontacjach teatralnych “Grudziądzka Kieszeń Sceniczna”. Przegląd odbędzie się w dniach 11\,12\,13 maja b.r. w gmachu Teatru przy ulicy Teatralnej 1 w Grudziądzu.\n[button link="http://teatr.grudziadz.pl/grudziadzka-kieszen-sceniczna-2020/" newwindow="yes"] Więcej [/button]
URL:http://teatr.grudziadz.pl/wydarzenie/grudziadzka-kieszen-sceniczna/
LOCATION:Teatralna\, 1\, Grudziądz\, 86-300\, Polska
CATEGORIES:Kieszeń Sceniczna,Koncert
ORGANIZER;CN="CK%20Teatr%20w%20Grudzi%C4%85dzu":MAILTO:oliwia@teatr.grudziadz.pl
END:VEVENT
END:VCALENDAR