BEGIN:VCALENDAR
VERSION:2.0
PRODID:-//Centrum Kultury Teatr w Grudziądzu - ECPv4.0.5//NONSGML v1.0//EN
CALSCALE:GREGORIAN
METHOD:PUBLISH
X-WR-CALNAME:Centrum Kultury Teatr w Grudziądzu
X-ORIGINAL-URL:http://teatr.grudziadz.pl
X-WR-CALDESC:Events for Centrum Kultury Teatr w Grudziądzu
BEGIN:VEVENT
DTSTART;TZID="Europe/Warsaw":20240921T170000
DTEND;TZID="Europe/Warsaw":20240921T170000
DTSTAMP:20260419T122348
CREATED:20240626T194100
LAST-MODIFIED:20240818T202727
UID:46977-1726938000-1726938000@teatr.grudziadz.pl
SUMMARY:III Jesienny Festiwal Muzyczny GRUD-ART
DESCRIPTION:Wystąpią:\nWojtek Mazolewski z projektem Tryp Trych Trio - Warsaw Conjunction\nTrupa Trupa\nJazzpospolita\nState of Mind\nTryp Trych Trio - Warsaw Conjunction' - nowy album\, który został wydany we\nwspółpracy wytwórni On The Corner Records (UK) i Lanquidity Records (UK).\nJest to zapis improwizowanej sesji pomiędzy:\nTamar Osborn - na flecie\, saksofonie barytonowym i samplerach\,\nEdward'em Wakili-Hick - na perkusji\,\noraz Wojtka Mazolewskiego - na kontrabasie elektrycznym i akustycznym.\nPremiera albumu odbyła się w czerwcu tego roku w Londynie\, gdzie kilka dni wcześniej\nodbył się premierowy koncert formacji w klubie Cafe OTO.\nPłyta została nagrana w Warszawie\, po improwizowanym koncercie w klubie Spatif\, przy\nwspółpracy brytyjskiego Worldwide FM (Gilles Peterson) oraz Instytutu Kultury Polskiej im.\nAdama Mickiewicza w ramach inicjatywy 'Get Your Jazz Together'\, Odbyło się to we\nwrześniu 2020 roku pomiędzy lockdown'ami w Wielkiej Brytanii. Mazolewski kierował\nprodukcją\, przy wsparciu członków zespołu.\nNa płycie znajdują się oryginalne kompozycje muzyków jako interpretacje ich spotkania w\nówczesnych - niestandardowych - warunkach\, a pomysł sesji nagraniowej pojawił się bo\nmuzycy wiedzieli\, że stworzą coś ponadczasowego i jedynego w swoim rodzaju.\n"Nagrywaliśmy to na wypadek\, gdyby pojawiła się jakaś magia - okazało się\, że właśnie tak\nsię stało" - mówi Tamar.\n"Znaliśmy się z wcześniejszych projektów i widzieliśmy czego mniej więcej możemy od\nsiebie oczekiwać" - mówi Osborn. "To nigdy nie miało być całkowitą niespodzianką\, ale\nmyślę\, że wszyscy byliśmy bardzo otwarci na to\, aby [sesja] poszła w nieoczekiwane i\ngłębokie  kierunki...".\n\nNa koncercie w Grudziądzu zagrają w składzie:\nPiotr Checki  - sax\n Wojtek Mazolewski - double bass\n Sarathy Korwar - drums\n\nWojtek Mazolewski - wybitny polski artysta jazzowy znany ze swojej pionierskiej pracy we\nwspółczesnym jazzie. Jako wirtuoz basu i kompozytor\, Mazolewski łączy tradycyjny jazz\nze współczesnymi elementami\, dostarczając hipnotyzujących i emocjonalnie\nnaładowanych wrażeń muzycznych.\n\nZ karierą obejmującą dziesięciolecia\, stał się ikoną na polskiej scenie jazzowej\,\noczarowując publiczność na całym świecie swoją fuzją klasycznych i nowoczesnych\nstylów jazzowych.\nJego występy na żywo słyną z energii i urzekającej prezencji scenicznej\,\ndostarczając niezapomnianych i odkrywczych wrażeń jazzowych\, czyniąc go znaną\npostacią w globalnej społeczności jazzowej.\n\n[gallery size="medium" columns="1" link="file" ids="47000"]\n\nTrupa Trupa to artrockowy\, psychodeliczny zespół z Gdańska. Według Guardiana\n„twórczość zespołu to połączenie nieoczywistych melodii i tekstów\, które penetrują ciemne\nzakamarki ludzkiego istnienia”\, natomiast Pitchfork uważa że „Trupa Trupa wnosi poezję i\nsubtelność do psychodelicznego rocka.”\nTrupa Trupa to:\n* Grzegorz Kwiatkowski\,\n* Tomek Pawluczuk\n* Wojtek Juchniewicz.\nW 2015 roku w brytyjskiej wytwórni Blue Tapes and X-Ray Records ukazał się album\n„Headache”. Rok później zremasterowana wersja „Headache” została wydana przez\nfrancuski label Ici d’ailleurs. W 2017 roku w wyniku współpracy francuskich i angielskich\nwydawców ukazał się kolejny album „Jolly New Songs”. Płyta doczekała się japońskiej\nedycji wydanej przez Moorworks. W 2019 roku nakładem wytwórni Sub Pop ukazał się\nsingiel „Dream About”. W tym samym roku zespół wydał płytę „Of The Sun”. Album ukazał\nsię w ramach międzynarodowej kooperacji Glitterbeat Records (Europa)\, Lovitt Records\n(USA)\, Moorworks (Japonia) i Anteny Krzyku (Polska). 6 marca 2019 roku wytwórnie te\nwydały kolejny album zespołu – EP „I’ll find”. W 2019 roku nakładem amerykańskiej\nwytwórni Whited Sepulchre Records ukazała się split kaseta z gwiazdami teksańskiej\nalternatywy Suspirians.\nNajnowszy album zespołu B FLAT A ukazał się 11 lutego 2022 roku. W marcu 2023 roku\nalbum został nominowany do nagrody muzycznej Fryderyk.\n\nTrupa Trupa wystąpiła do tej pory m.in. na Desert Daze Festival\, Rockaway Beach\nFestival\, SXSW\, Primavera Sound i Iceland Airwaves. Zespół wziął również udział w sesji\nNPR Tiny Desk i sesji BBC Radio 6 Music.\nUtwory Trupy Trupa pojawiają się regularnie w radiu BBC 6. Grali je m.in. Iggy Pop\, Marc\nRiley\, Mary Anne Hobbs\, Steve Lamacq\, czy Gideon Coe. Ostatnie wydawnictwa zespołu\ngościły także w audycji Henry’ego Rollinsa na antenie KCRW oraz w rozgłośniach The\nCurrent\, WFMU\, KEXP i NPR.\n21 lutego 2023 roku ukazała się eksperymentalna i limitowana kaseta „ttt”\, która spotkała\nsię z bardzo dobrym przyjęciem krytyki: „One of the most important bands to emerge from\nEurope in the last decade.” (Monolith Cocktail)\, i która była wielokrotnie emitowana na\nantenie BBC Radio 6 music.\n\n5 września 2023 roku nakładem wytwórni Glitterbeat Records ukazał się singiel &quot;Thrill&quot;\nwraz z towarzyszącym mu wideo autorstwa artysty wizualnego Adama Witkowskiego.\nRównież we wrześniu radio BBC 6 zapowiedziało drugi koncert Trupy Trupa\, który odbył\nsię 8 stycznia 2024 roku.\nRównież 5 września światową premierę na Festiwalu Filmowym w Wenecji miał film\n„Zielona Granica” w reżyserii Agnieszki Holland\, w którym wykorzystany został utwór\nTrupa Trupa “Headache”. Film został nagrodzony w Wenecji Nagrodą Specjalną Jury.\nTRUPA TRUPA – THRILL (Official Video)\nhttps://youtu.be/BjGMRwUsnMQ\nhttp://trupatrupa.com\nhttp://fb.com/trupatrupa\nhttp://trupatrupa.bandcamp.com\nhttps://www.instagram.com/trupa_trupa\nhttps://trupatrupa.bandcamp.com/merch\n\n[gallery columns="2" link="file" size="medium" ids="46998\,46999"]\n\n\n\nJazzpospolita to zespół od samego początku działający na przekór: skojarzeniom\,\nmodom\, a nawet własnej nazwie. Grupa z założenia balansuje pomiędzy gatunkami i\ndzięki temu przez lata wypracowała charakterystyczne brzmienie. Post\, avant\, pre\, trans\,\nprog\, soft\, hard? Jazz\, rock\, ambient\, minimal\, trip-hop? Wszystkie etykietki\, którymi\nopatrzono twórczość Jazzpo\, naprawdę trudno wymienić. Czy da się je wszystkie spiąć\njazzową klamrą?\nHarmonie\, dynamika\, wrażliwość i melodyjność - to na pewno składa się na otwarte\nkompozycje Jazzpo\, które ewoluują w zależności od potrzeby chwili. Dzięki różnorodności\nswojego brzmienia Jazzpospolita jest gorąco przyjmowana zarówno na scenach\nklubowych\, festiwalach i filharmoniach.\n15 lat aktywności artystycznej\, 8 albumów\, kilkaset koncertów w ramach\nmiędzynarodowych tras - tak w największym skrócie można opisać działalność\nJazzpospolitej. Przez ten czas zespół wystąpił na takich imprezach jak: London Jazz\nFestival\, Copenhagen Jazz Festival\, Jazz Comblain\, Open’er Festival\, Męskie Granie\,\nJazz Jamboree\, Match & Fuse\, Edinburgh Jazz & Blues Festival\, Garana Jazz\,\nKaliningrad City Jazz. Uznanie dla występów Jazzpospolitej na żywo wyraziła redakcja 3\nProgramu Polskiego Radia\, nazywając zespół odkryciem koncertowym roku 2011. Koncert\nJazzpospolitej na finał Męskiego Grania w 2012 roku obejrzało ponad 10.000 osób. W\n2015 roku Jazzpospolita jako jeden z pierwszych zespołów zagrała trasę koncertową w\nChinach\, udokumentowaną wydaniem płyty “Jazzpo! Live Made in China”. W 2011 roku\ngrupa zdobyła przyznawaną przez widzów nagrodę na IX Święcie Kina Niemego za\nnajlepszą muzykę graną na żywo do wyświetlanego obrazu.\n\nW 2023 ukazała się najnowsza płyta Jazzpospolitej\, pt. „Obiekt”.\n\n[gallery link="file" size="medium" columns="2" ids="46996\,46997"]\n\nSkład:\nStefan Nowakowski - kontrabas\nMichał Milczarek - gitara\, elektronika\nMiłosz Oleniecki - instrumenty klawiszowe\nWojtek Sobura - perkusja\n\nWideo:\nTaki upał\, a ten siedzi w rękawiczkach\nAtole\nEter  \nPrzedwiośnie\nCombination feat. Paulina Przybysz\n\nZespół State of Mind powstał w marcu 2021 r. Muzyka zespołu to mikstura rockowo-metalowych brzmień z kobiecym wokalem oraz dużą ilością muzycznych pejzaży\, malowanych dźwiękami keyboardu. Teksty zespołu poruszają tematy uniwersalne\, takie jak poszukiwanie sensu\, miłości\, samotności i wewnętrznego odkrywania siebie\, co w całości staje się podróżą przez różnorodne emocje\, od euforycznych wzlotów po melancholijne i introspektywne momenty. Dzięki swojej charyzmie zespół na scenie tworzy atmosferę bliskości\, zachowując jednocześnie intensywność rockowego koncertu.\nZespół tworzą:\n\nMarlena Lepka – wokal\nMichał Kusz – gitara basowa\nJakub Michalak - keyboard\nDariusz Wesołowski - perkusja\nMarcin Warzyński - gitara\n\n\n\nBILETY ONLINE:\n[button link="https://www.bilety24.pl/koncert/1345-grud-art-2024-109255?id=618961" type="big" newwindow="yes"] BILETY24.PL[/button]\n
URL:http://teatr.grudziadz.pl/wydarzenie/iii-jesienny-festiwal-muzyczny-grud-art/
LOCATION:ul. Wybickiego 38
CATEGORIES:Koncert
ATTACH;FMTTYPE=image/jpeg:http://teatr.grudziadz.pl/wp-content/uploads/2024/06/Grud-Art-plakat.jpg
END:VEVENT
END:VCALENDAR