BEGIN:VCALENDAR
VERSION:2.0
PRODID:-//Centrum Kultury Teatr w Grudziądzu - ECPv4.0.5//NONSGML v1.0//EN
CALSCALE:GREGORIAN
METHOD:PUBLISH
X-WR-CALNAME:Centrum Kultury Teatr w Grudziądzu
X-ORIGINAL-URL:http://teatr.grudziadz.pl
X-WR-CALDESC:Events for Centrum Kultury Teatr w Grudziądzu
BEGIN:VEVENT
DTSTART;TZID="Europe/Warsaw":20240207T000000
DTEND;TZID="Europe/Warsaw":20240207T000000
DTSTAMP:20260419T203103
CREATED:20231205T110706
LAST-MODIFIED:20231205T110706
UID:44208-1707264000-1707264000@teatr.grudziadz.pl
SUMMARY:"Jaś i Małgosia" (reż. Zbigniew Kulwicki) - spektakl wyjazdowy w Wąbrzeźnie
DESCRIPTION:
URL:http://teatr.grudziadz.pl/wydarzenie/jas-i-malgosia-rez-zbigniew-kulwicki-spektakl-wyjazdowy-w-wabrzeznie-2/
LOCATION:Teatralna\, 1\, Grudziądz\, 86-300\, Polska
CATEGORIES:Spektakle
ORGANIZER;CN="CK%20Teatr%20w%20Grudzi%C4%85dzu":MAILTO:oliwia@teatr.grudziadz.pl
END:VEVENT
END:VCALENDAR