BEGIN:VCALENDAR
VERSION:2.0
PRODID:-//Centrum Kultury Teatr w Grudziądzu - ECPv4.0.5//NONSGML v1.0//EN
CALSCALE:GREGORIAN
METHOD:PUBLISH
X-WR-CALNAME:Centrum Kultury Teatr w Grudziądzu
X-ORIGINAL-URL:http://teatr.grudziadz.pl
X-WR-CALDESC:Events for Centrum Kultury Teatr w Grudziądzu
BEGIN:VEVENT
DTSTART;VALUE=DATE:20241021
DTEND;VALUE=DATE:20241021
DTSTAMP:20260420T065639
CREATED:20240626
LAST-MODIFIED:20240626
UID:46918-1729468800-1729555199@teatr.grudziadz.pl
SUMMARY:„Jaś i Małgosia” – spektakl dla dzieci
DESCRIPTION:(spektakl wyjazdowy)\n\n\n\nwkrótce
URL:http://teatr.grudziadz.pl/wydarzenie/jas-i-malgosia-spektakl-dla-dzieci-7/
CATEGORIES:Spektakle
END:VEVENT
END:VCALENDAR