BEGIN:VCALENDAR
VERSION:2.0
PRODID:-//Centrum Kultury Teatr w Grudziądzu - ECPv4.0.5//NONSGML v1.0//EN
CALSCALE:GREGORIAN
METHOD:PUBLISH
X-WR-CALNAME:Centrum Kultury Teatr w Grudziądzu
X-ORIGINAL-URL:http://teatr.grudziadz.pl
X-WR-CALDESC:Events for Centrum Kultury Teatr w Grudziądzu
BEGIN:VEVENT
DTSTART;TZID="Europe/Warsaw":20200229T123000
DTEND;TZID="Europe/Warsaw":20200229T123000
DTSTAMP:20260425T184919
CREATED:20200120T120254
LAST-MODIFIED:20200121T125442
UID:19509-1582979400-1582979400@teatr.grudziadz.pl
SUMMARY:„Kalif bocian” - bajka dla dzieci (spektakl premierowy)
DESCRIPTION:\n\n\n\nTeatrzyk Lalek „Miszmasz” wraca po dłuższej przerwie na scenę kameralną Centrum Kultury Teatr z nową premierą pt. „Kalif bocian”. Tym razem adaptujemy na scenę najbardziej znaną baśń XIX-wiecznego niemieckiego pisarza Wilhelma Hauffa (1802-1827). „Kalif bocian” to z jednej strony opowieść o ludzkiej naiwności i o tym\, że dla spraw materialnych można stracić głowę (jak w przypadku tytułowego bohatera). Z drugiej zaś strony jest to opowieść o bezwzględnym dążeniu do władzy\, nawet kosztem najbliższych (jak w przypadku wuja kalifa – czarownika Bazyla). Nasz „Kalif bocian” to adaptacja wierszowana\, utrzymana w żywym planie z elementami teatru lalek oraz inspirowaną orientem muzyką lat 70-tych. Zapraszamy!\n\nWystępują:\n\nMarcel Dykalski\, Sandra Elwertowska\, Wiktoria Elwertowska\, Gabriella Fyda\, Paweł Gołębiewski\, Oliwia Kępińska\, Marcin Kubala.\n\nScenariusz\, lalki i reżyseria: Renata Boguska\n\n[gallery ids="19638\,19637\,19636\,19635\,19634"]\n\n\n\n
URL:http://teatr.grudziadz.pl/wydarzenie/kalif-bocian-bajka-dla-dzieci-spektakl-premierowy-3/
LOCATION:Teatralna\, 1\, Grudziądz\, 86-300\, Polska
CATEGORIES:Spektakle
ATTACH;FMTTYPE=image/jpeg:http://teatr.grudziadz.pl/wp-content/uploads/2020/01/DSC_6567-1.jpg
ORGANIZER;CN="CK%20Teatr%20w%20Grudzi%C4%85dzu":MAILTO:szymon.r@teatr.grudziadz.pl
END:VEVENT
END:VCALENDAR