BEGIN:VCALENDAR
VERSION:2.0
PRODID:-//Centrum Kultury Teatr w Grudziądzu - ECPv4.0.5//NONSGML v1.0//EN
CALSCALE:GREGORIAN
METHOD:PUBLISH
X-WR-CALNAME:Centrum Kultury Teatr w Grudziądzu
X-ORIGINAL-URL:http://teatr.grudziadz.pl
X-WR-CALDESC:Events for Centrum Kultury Teatr w Grudziądzu
BEGIN:VEVENT
DTSTART;VALUE=DATE:20241118
DTEND;VALUE=DATE:20241118
DTSTAMP:20260419T173213
CREATED:20241015
LAST-MODIFIED:20241015
UID:47866-1731888000-1731974399@teatr.grudziadz.pl
SUMMARY:Kije samobije" - bajka dla dzieci
DESCRIPTION:spektakl wyjazdowy Szemud\n\n\n\nwkrótce
URL:http://teatr.grudziadz.pl/wydarzenie/kije-samobije-bajka-dla-dzieci-3/
LOCATION:Teatralna\, 1\, Grudziądz\, 86-300\, Polska
CATEGORIES:Spektakle
END:VEVENT
END:VCALENDAR