BEGIN:VCALENDAR
VERSION:2.0
PRODID:-//Centrum Kultury Teatr w Grudziądzu - ECPv4.0.5//NONSGML v1.0//EN
CALSCALE:GREGORIAN
METHOD:PUBLISH
X-WR-CALNAME:Centrum Kultury Teatr w Grudziądzu
X-ORIGINAL-URL:http://teatr.grudziadz.pl
X-WR-CALDESC:Events for Centrum Kultury Teatr w Grudziądzu
BEGIN:VEVENT
DTSTART;TZID="Europe/Warsaw":20200223T120000
DTEND;TZID="Europe/Warsaw":20200223T120000
DTSTAMP:20260422T050330
CREATED:20190819T105844
LAST-MODIFIED:20200122T085730
UID:17673-1582459200-1582459200@teatr.grudziadz.pl
SUMMARY:Koncert Niedzielny Koniński Kameralny Zespół Akordeonowy
DESCRIPTION:Koniński Kameralny Zespół Akordeonowy to najstarszy i nieprzerwanie koncertujący od 1979 roku zespół w Polsce. Wielokrotnie nagradzany m.in. w 1983 roku podczas V Golubskich Konfrontacji Muzycznych „O złotego gołębia Anny Wazówny” w Golubiu-Dobrzyniu\, w 1984 III nagroda zdobyta na Ogólnopolskim Konkursie Akordeonowych Zespołów i Orkiestr w Międzyrzeczu\, czy wyróżnienie ministra kultury „za wieloletnie propagowanie kultury polskiej” na Międzynarodowych Spotkaniach Akordeonowych w Sanoku w 2006 r.\n\n\n\nKonińscy akordeoniści koncertowali razem z Orkiestrą Rozrywkową Polskiego Radia w Katowicach pod dyrekcją Jerzego Miliana\, występowali w Briańsku (Rosja)\, w Herne i w Monachium (Niemcy)\, na Węgrzech i wielu miastach Polski. Byli wykonawcami repertuaru estradowego i klasycznego oraz współorganizatorami koncertów\, w czasie których towarzyszyli m.in. solistom Opery Łódzkiej i Akademii Muzycznej w Łodzi. Zespół ma w dorobku cztery albumy muzyczne oraz kilka teledysków.\n\nW roku 2019 Zespół obchodził jubileusz 40-lecia pracy artystycznej. Z tej okazji przygotował niepowtarzalny repertuar koncertowy\, zawierający przeboje muzyki rozrywkowej\, jazzowej i klasycznej w niekonwencjonalnych aranżacjach. Podczas występu Grudziądzka publiczność będzie miała okazję  przekonać się\, że Koniński Kameralny Zespół Akordeonowy jest gwarancją doskonałej uczty muzycznej i wyśmienitej zabawy.\n\n\n\nKoniński Kameralny Zespół Akordeonowy koncertuje w składzie:\n\n\n\nAkordeon I – Krystian Weber\n\n\n\nAkordeon II – Maciej Kucharczyk\nAkordeon IV i kierownictwo artystyczne – Ryszard J. Piotrowski\n\n\nAkordeon III – Łukasz Kucharczyk\nAkordeon basowy / syntezator – Szymon Piotrowski\n\n\n\n\nMARIAN SOŁOBODOWSKI - wystawa pocztówek miłosnych\nWystawa pocztówek miłosnych ze zbiorów Mariana Sołobodowskiego przedstawia unikalne\, historyczne pocztówki ukazujące miłość zakochanych.\n\nHistoria pocztówek sięga II połowy XIX wieku. W owych czasach bardzo szybko stały się popularnym nośnikiem kontaktów międzyludzkich. Ich tematyka była zróżnicowana\, jednak szczególnym uznaniem cieszyły się pocztówki miłosne\, które dzisiaj są świadectwem dawnej obyczajowości. Przedstawiały najczęściej pary zakochanych w pełnej subtelności pozie\, której amor ukrywał się za parawanem cnoty i niewinności. Inne\, łamiące tamtejsze konwenanse\, ukazywały sentymentalną namiętność i melancholię.\n\nZbiór pocztówek Mariana Sołobodowskiego ukazuje klimat dawnych lat\, kiedy to mężczyzna w osobliwy sposób okazywał swą sympatię wobec wybranki. Dzisiaj z łatwością można dostrzec różnice\, jakie zaszły od tamtych czasów. Nie jednemu przyglądającemu się wystawie może zakręcić się łza w oku\, wspominając dawne\, żywe tradycje korespondowania za pomocą pocztówek\, czy listów. Nie jest to jedyny cel tej wystawy. Oglądając pocztówki można zaczerpnąć niecodziennej lekcji obyczajów i tradycji z I połowy XX wieku.\n\nJest to unikalny zbiór zakochanych pocztówek. W skład kolekcji wystawcy wchodzi kilkadziesiąt kartek okolicznościowych - zarówno polskich jak i zagranicznych\, pochodzących z pierwszej połowy XX wieku.\n\n Marian Sołobodowski od lat angażuje się w przedsięwzięcia kulturalne\, społeczne i charytatywne. Został wyróżniony Odznaką Honorową "Zasłużony dla Kultury Polskiej" - przyznawaną przez Ministra Kultury i Dziedzictwa Narodowego.\n\n   
URL:http://teatr.grudziadz.pl/wydarzenie/koncert-niedzielny-26/
LOCATION:Teatralna\, 1\, Grudziądz\, 86-300\, Polska
CATEGORIES:Koncert,Koncert niedzielny
ATTACH;FMTTYPE=image/jpeg:http://teatr.grudziadz.pl/wp-content/uploads/2019/08/IMG_2830-e1578913589177.jpg
ORGANIZER;CN="CK%20Teatr%20w%20Grudzi%C4%85dzu":MAILTO:oliwia@teatr.grudziadz.pl
END:VEVENT
END:VCALENDAR