BEGIN:VCALENDAR
VERSION:2.0
PRODID:-//Centrum Kultury Teatr w Grudziądzu - ECPv4.0.5//NONSGML v1.0//EN
CALSCALE:GREGORIAN
METHOD:PUBLISH
X-WR-CALNAME:Centrum Kultury Teatr w Grudziądzu
X-ORIGINAL-URL:http://teatr.grudziadz.pl
X-WR-CALDESC:Events for Centrum Kultury Teatr w Grudziądzu
BEGIN:VEVENT
DTSTART;TZID="Europe/Warsaw":20230416T120000
DTEND;TZID="Europe/Warsaw":20230416T120000
DTSTAMP:20260420T112013
CREATED:20221103T105939
LAST-MODIFIED:20230330T123935
UID:34496-1681646400-1681646400@teatr.grudziadz.pl
SUMMARY:Koncert Niedzielny: Erlendis Quartet | Otwarcie wystawy Piotra Kamińskiego
DESCRIPTION:ERLENDIS QUARTET\nPowstał w 2013 roku na Akademii Muzycznej w Poznaniu\, gdzie Ania\, Adrian\, Karol i Wojtek studiowali pod kierunkiem Łukasza Kuropaczewskiego. W rok po założeniu zespołu\, do grona jego pedagogów dołączył Karol Marianowski\, wiolonczelista Meccore String Quartet.\n\nErlendis Quartet\, w niecałe pięć lat od swojego powstania\, został najczęściej nagradzanym kwartetem gitarowym w historii. Międzynarodowe uznanie zdobył poprzez istotne laury konkursowe oraz liczne koncerty na całym świecie. Entuzjastyczne recenzje podkreślają wręcz telepatyczne porozumienie wewnątrz zespołu\, ich unikalną muzykalność oraz emocjonalność muzycznych kreacji.\n\nPorozumienie na scenie\, operowanie szeroką skalą dynamiczną oraz emocjonalne i precyzyjne interpretacje stały się cechami rozpoznawczymi zespołu. Dzielenie się pasją do muzyki jest nadrzędnym celem wszystkich artystycznych podróży po świecie. Erlendis Quartet odwiedził dotychczas USA\, Kanadę\, Niemcy\, Włochy\, Holandię\, Hiszpanię\, Łotwę\, Ukrainę oraz regularnie koncertuje w Polsce i w Danii. Był nagradzany stypendiami przez Fundację Idella\, Fundację Cultura Animi oraz Królewską Akademię Muzyczną w Kopenhadze. Jest również stypendystą „Programu Młoda Polska" przyznawanym przez Ministra Kultury i Dziedzictwa Narodowego oraz „Kultura polska na świecie" finansowanym przez Instytut Adama Mickiewicza.\n\nW październiku 2023 roku Erlendis Quartet obchodzi jubileusz X-lecia. Przez ostatnią dekadę mieliśmy niezwykłą przyjemność wykonać prawie 300 koncertów w 18 krajach na 2 kontynentach\, goszcząc w pięknych salach koncertowych wielkich miast (w tym Concertgebouw w Amsterdamie\, Centre Céramique w Maastricht\, Kościół Santa Croce we Florencji\, katowicki NOSPR\, wrocławski NFM\, Studio Koncertowe Polskiego Radia im. W. Szpilmana w Warszawie\, Pałac Wilanowski i inne)\, jak i w malowniczych\, małych miejscowościach. Nasze koncerty były rejestrowane i transmitowane w 7 krajach (USA\, Dania\, Szwecja\, Wielka Brytania\, Niemcy\, Węgry i Polska). Erlendis Quartet zostało laureatem 10 nagród na międzynarodowych konkursach muzyki kameralnej w Polsce\, USA\, Niemczech\, Włoszech\, Austrii\, Holandii i Danii.\n\nCytaty:\n"Sposób gry Erlendis Quartet ma w sobie wyjątkową jakość. Jest to kombinacja nieprzeciętnej muzykalności z niezwykłym wyczuciem oraz zażyłości\, przyjaźni pomiędzy członkami zespołu."\nKrzysztof Chorzelski\nBelcea Quartet\n\n"Telepatyczne porozumienie na scenie"\, "Potrafią uchwycić subtelne i intymne cechy gitary"\nJan Dohrmann\nProgram 2. Duńskiego Radia\n\n"[...] podziw budziły muzykalność\, zmienna dynamika\, pogłębianie rezonansu strun\, absolutna zwartość dźwięku kwartetu."\nMałgorzata Komorowska\nRuch Muzyczny\n\n"Byłem pod wrażeniem ich niebywałej muzykalności i fantastycznego wyczucia dynamiki. Używają ich w wyjątkowy sposób\, nieporównywalny z innymi zespołami gitarowymi"\nSergio Assad\nlaureat nagrody LATIN GRAMMY AWARDS\, Assad Duo\n\nO programie:\nW programie przygotowanym na koncert w Grudziądzu znajdzie się różnorodna kompilacja autorskich opracowań utworów - trzymająca w napięciu i pełna zwrotów akcji.Usłyszymy chwytające za serce słowiańskie melodie\, aranżacje utworów fortepianowych w nowym\, gitarowym wydaniu oraz porywające hiszpańskie rytmy\, a także utwór-niespodziankę z nurtu muzyki popularnej. Serdecznie zapraszamy!\n\n\n\nW przerwie koncertu odbędzie się otwarcie wystawy Piotra Kamińskiego - grafika\, malarstwo\, pastel.\n\n\nPIOTR KAMIŃSKI\nUrodził się w Grudziądzu. Tworzy prace pastelą olejną oraz używa kolorowych markerów. W swojej twórczości skupia się nad losem ludzkiej egzystencji. Dynamiczna forma plastyczna odpowiada jego temperamentowi ukazując różne stany emocjonalne natury ludzkiej. Interesuje go ekspresja formy jak i treści.\n\nTematami swoich prac uczynił również siebie \,\,Autoportret z brodą”; \,\,Autoportret w kapeluszu ”; \,\,Król życia”. Z pozoru automatyczne linie\, plamy\, barwy ukazują jego własne przeżycia\, emocje\, obserwacje. Dynamiczna kreska odwzorowuje jego wewnętrzny świat\, staje się prywatnym dialogiem twórcy. Impulsywnie kreślone kreski\, grube kontury\, plamy koloru\, uproszczenia i deformacje stają się jego głównym środkiem wyrazu plastycznego. Piotr wydobywa\, wręcz \,\,wyrzuca z siebie” emocje tworząc bardzo osobiste i ekspresyjne prace.\n\nOd 2021 roku uczestniczy w zajęciach sekcji plastycznej osób z niepełnosprawnością w Centrum Rehabilitacji im. ks. Biskupa Jana Chrapka\, gdzie tworzy pod kierunkiem magister sztuki Magdaleny Klimkiewicz. W 2022 roku otrzymał II nagrodę w Ogólnopolskim Przeglądzie Twórczości Osób Niepełnosprawnych OPTAN za cykl obrazów \,\,Siewca” oraz \,\,Róża świata”. W 2022 brał udział w zbiorowej\, ogólnopolskiej wystawie: \,\, Malarstwo Artystów Teatru życia im. ks. Biskupa Jana Chrapka w Grudziądzu”.\n\nNa wystawie w Centrum Kultury Teatr zaprezentowane zostaną prace z lat 2022- 2023.\n\n[gallery size="medium" ids="39018\,39017\,39016"]\n\n\nBILETY DOSTĘPNE W KASIE TEATRU ORAZ ONLINE:\n[button link="https://www.bilety24.pl/kup-bilet-na-1345-erlendis-quartet-87705?id=473475#overall" type="big"] Bilety24.pl[/button]\n\n 
URL:http://teatr.grudziadz.pl/wydarzenie/koncert-niedzielny-39/
LOCATION:Teatralna\, 1\, Grudziądz\, 86-300\, Polska
CATEGORIES:Koncert niedzielny
ATTACH;FMTTYPE=image/jpeg:http://teatr.grudziadz.pl/wp-content/uploads/2022/11/EQ-1-1.jpg
ORGANIZER;CN="CK%20Teatr%20w%20Grudzi%C4%85dzu":MAILTO:oliwia@teatr.grudziadz.pl
END:VEVENT
END:VCALENDAR