BEGIN:VCALENDAR
VERSION:2.0
PRODID:-//Centrum Kultury Teatr w Grudziądzu - ECPv4.0.5//NONSGML v1.0//EN
CALSCALE:GREGORIAN
METHOD:PUBLISH
X-WR-CALNAME:Centrum Kultury Teatr w Grudziądzu
X-ORIGINAL-URL:http://teatr.grudziadz.pl
X-WR-CALDESC:Events for Centrum Kultury Teatr w Grudziądzu
BEGIN:VEVENT
DTSTART;TZID="Europe/Warsaw":20210526T180000
DTEND;TZID="Europe/Warsaw":20210526T180000
DTSTAMP:20260422T153953
CREATED:20210415T101748
LAST-MODIFIED:20210524T112108
UID:23730-1622052000-1622052000@teatr.grudziadz.pl
SUMMARY:Koncert z okazji Dnia Matki - Studio Piosenki Z. Poliszczuka
DESCRIPTION:Z okazji Dnia Matki zapraszamy na koncert w wykonaniu słuchaczy Studia Piosenki Zbigniewa Poliszczuka. Bardzo chcieliśmy zaprosić wszystkie mamy na to wydarzenie do Teatru\, niestety obostrzenia pandemiczne jeszcze przez chwilę nie pozwolą nam spotkać się w pięknych wnętrzach naszej instytucji\, dlatego zapraszamy na relację online.\n\nW tym szczególnym dniu zaplanowaliśmy popołudnie z przebojami najpopularniejszych wokalistów nie tylko polskiej\, ale też światowej sceny. W gronie wykonawców\, którzy zaprezentują się przed grudziądzką publicznością znajdą się laureaci wielu ogólnopolskich przeglądów wokalnych\, Zapowiada się\, zatem\, prawdziwy pokaz umiejętności wokalnych\, ale przede wszystkim miłe popołudnie dla wszystkich\, którzy lubią dobrą piosenkę. Wokalistom akompaniował będzie Zbigniew Poliszczuk.\n\n \n\n[gallery ids="23900\,23901\,23902\,23903\,23905\,23906"]\n\nFot. Piotr Bilski
URL:http://teatr.grudziadz.pl/wydarzenie/koncert-z-okazji-dnia-matki-studio-piosenki-z-poliszczuka/
LOCATION:Teatralna\, 1\, Grudziądz\, 86-300\, Polska
CATEGORIES:Koncert
ATTACH;FMTTYPE=image/jpeg:http://teatr.grudziadz.pl/wp-content/uploads/2021/04/Teledysk-025-e1621844965576.jpg
ORGANIZER;CN="CK%20Teatr%20w%20Grudzi%C4%85dzu":MAILTO:oliwia@teatr.grudziadz.pl
END:VEVENT
END:VCALENDAR