BEGIN:VCALENDAR
VERSION:2.0
PRODID:-//Centrum Kultury Teatr w Grudziądzu - ECPv4.0.5//NONSGML v1.0//EN
CALSCALE:GREGORIAN
METHOD:PUBLISH
X-WR-CALNAME:Centrum Kultury Teatr w Grudziądzu
X-ORIGINAL-URL:http://teatr.grudziadz.pl
X-WR-CALDESC:Events for Centrum Kultury Teatr w Grudziądzu
BEGIN:VEVENT
DTSTART;TZID="Europe/Warsaw":20210411T180000
DTEND;TZID="Europe/Warsaw":20210411T180000
DTSTAMP:20260422T055206
CREATED:20210107T135818
LAST-MODIFIED:20210408T062710
UID:22844-1618164000-1618164000@teatr.grudziadz.pl
SUMMARY:Koncert " ŻÓŁTE KALENDARZE" w hołdzie Piotrowi Szczepanikowi PRZENIESIONY NA 22.05.
DESCRIPTION:Zaśpiewa Teresa Chodyna i Edmund Otremba.\nKażdy z gości otrzyma bezpłatnie płytę CD z utworami Artystów.
URL:http://teatr.grudziadz.pl/wydarzenie/koncert-zolte-kalendarze-w-holdzie-piotrowi-szczepanikowi/
LOCATION:Teatralna\, 1\, Grudziądz\, 86-300\, Polska
CATEGORIES:Koncert
ATTACH;FMTTYPE=image/jpeg:http://teatr.grudziadz.pl/wp-content/uploads/2021/01/zołte-kalendarze11kwietniadd-2021-e1610027795988.jpg
ORGANIZER;CN="CK%20Teatr%20w%20Grudzi%C4%85dzu":MAILTO:oliwia@teatr.grudziadz.pl
END:VEVENT
END:VCALENDAR