BEGIN:VCALENDAR
VERSION:2.0
PRODID:-//Centrum Kultury Teatr w Grudziądzu - ECPv4.0.5//NONSGML v1.0//EN
CALSCALE:GREGORIAN
METHOD:PUBLISH
X-WR-CALNAME:Centrum Kultury Teatr w Grudziądzu
X-ORIGINAL-URL:http://teatr.grudziadz.pl
X-WR-CALDESC:Events for Centrum Kultury Teatr w Grudziądzu
BEGIN:VEVENT
DTSTART;TZID="Europe/Warsaw":20200222T190000
DTEND;TZID="Europe/Warsaw":20200222T190000
DTSTAMP:20260422T020628
CREATED:20200115T132101
LAST-MODIFIED:20200206T083904
UID:19436-1582398000-1582398000@teatr.grudziadz.pl
SUMMARY:MZM: KARTKY
DESCRIPTION:Kartky - młody i zdolny reprezentant QueQuality. Jego pierwszym\, szeroko przyjętym\, albumem był "Preseason Highlights"\, którym pochodzący z Bytomia raper zaznaczył się w świadomości słuchaczy. W 2015 roku wydał świetnie przyjęte płyty "Shadowplay" i "Fuego Infinito"\, co pozwoliło mu jeszcze mocniej zaakcentować swoją pozycję na scenie. Następnie stworzył\, wraz z Emesem Milliganem\, "Nowe Kino". W 2018 roku na rynku ukazały się jego dwa albumy: "Blackout" oraz "BLACK MAGIIC"\, który to otrzymał status złotej płyty. Aktualnie Kartky promuje swój najnowszy krążek pt. „dom na skraju niczego”.\n\nKartky - Outside\nhttps://www.youtube.com/watch?v=6o8orK4GXoc\n\nkartky – koszmar minionego lata\nhttps://www.youtube.com/watch?v=GdNZ5sEnyhs\n\nKartky - Nagano 98\nhttps://www.youtube.com/watch?v=wxNjTbgBacM\n\nKartky – Dziewczyna Szamana\nhttps://www.youtube.com/watch?v=vhtkM9KcqUU\n\nKartky – niemanieba\nhttps://www.youtube.com/watch?v=3CcUZZ6Q-0c\n\nKartky - Blackout\nhttps://www.youtube.com/watch?v=MMlojOD6AfY
URL:http://teatr.grudziadz.pl/wydarzenie/muza-zalewa-miasto-9/
LOCATION:ul. Wybickiego 38
CATEGORIES:Jarmark Św. Mikołaja
ATTACH;FMTTYPE=image/jpeg:http://teatr.grudziadz.pl/wp-content/uploads/2020/01/84298512_673563863179297_4252246832559685632_o.jpg
ORGANIZER;CN="CK%20Teatr%20w%20Grudzi%C4%85dzu":MAILTO:oliwia@teatr.grudziadz.pl
END:VEVENT
END:VCALENDAR