BEGIN:VCALENDAR
VERSION:2.0
PRODID:-//Centrum Kultury Teatr w Grudziądzu - ECPv4.0.5//NONSGML v1.0//EN
CALSCALE:GREGORIAN
METHOD:PUBLISH
X-WR-CALNAME:Centrum Kultury Teatr w Grudziądzu
X-ORIGINAL-URL:http://teatr.grudziadz.pl
X-WR-CALDESC:Events for Centrum Kultury Teatr w Grudziądzu
BEGIN:VEVENT
DTSTART;TZID="Europe/Warsaw":20200502T170000
DTEND;TZID="Europe/Warsaw":20200502T170000
DTSTAMP:20260422T182138
CREATED:20200502T084324
LAST-MODIFIED:20200502T084324
UID:20762-1588438800-1588438800@teatr.grudziadz.pl
SUMMARY:„Na skrzydłach marzeń” reportaż (z archiwum Studia Akcent)
DESCRIPTION:Korzystając z faktu\, że cały świat nieco zwolnił zapraszamy na spotkanie z marzycielem\, który chciał wzbić się w przestworza\, a że marzenia to silna motywacja motywacja UDAŁO SIĘ. Z Markiem Puchałą spotkaliśmy się wiele lat temu (2005/2006 rok)\, materiał archiwalny\, ale przesłanie cały czas aktualne …... MARZENIA SĄ PO TO ABY JE SPEŁNIAĆ \n\n[embed]https://www.youtube.com/watch?v=y15MmXfU4rQ[/embed]
URL:http://teatr.grudziadz.pl/wydarzenie/na-skrzydlach-marzen-reportaz-z-archiwum-studia-akcent/
LOCATION:Teatralna\, 1\, Grudziądz\, 86-300\, Polska
CATEGORIES:Koncert
ORGANIZER;CN="CK%20Teatr%20w%20Grudzi%C4%85dzu":MAILTO:oliwia@teatr.grudziadz.pl
END:VEVENT
END:VCALENDAR