BEGIN:VCALENDAR
VERSION:2.0
PRODID:-//Centrum Kultury Teatr w Grudziądzu - ECPv4.0.5//NONSGML v1.0//EN
CALSCALE:GREGORIAN
METHOD:PUBLISH
X-WR-CALNAME:Centrum Kultury Teatr w Grudziądzu
X-ORIGINAL-URL:http://teatr.grudziadz.pl
X-WR-CALDESC:Events for Centrum Kultury Teatr w Grudziądzu
BEGIN:VEVENT
DTSTART;TZID="Europe/Warsaw":20200501T190000
DTEND;TZID="Europe/Warsaw":20200501T190000
DTSTAMP:20260422T185517
CREATED:20200502T084123
LAST-MODIFIED:20200502T084123
UID:20761-1588359600-1588359600@teatr.grudziadz.pl
SUMMARY:„Noc w Teatrze” (wspomnienie - w sieci)
DESCRIPTION:Pozostając w domu wspominamy spotkania z naszymi widzami i nasze nowe szalone propozycje\, na które WY reagowaliście entuzjastycznie. Super było spędzić noc w teatrze z najmłodszymi widzami. Było zwiedzanie teatru\, pizza na kolację:)\, szaleństwa plastyczne pod sceną\, pamiątkowe fotografie i relaks przy dźwiękach harfy.\n\nhttps://www.youtube.com/watch?v=U0CNH2VYGwA
URL:http://teatr.grudziadz.pl/wydarzenie/noc-w-teatrze-wspomnienie-w-sieci/
LOCATION:Teatralna\, 1\, Grudziądz\, 86-300\, Polska
CATEGORIES:Koncert
ORGANIZER;CN="CK%20Teatr%20w%20Grudzi%C4%85dzu":MAILTO:oliwia@teatr.grudziadz.pl
END:VEVENT
END:VCALENDAR