BEGIN:VCALENDAR
VERSION:2.0
PRODID:-//Centrum Kultury Teatr w Grudziądzu - ECPv4.0.5//NONSGML v1.0//EN
CALSCALE:GREGORIAN
METHOD:PUBLISH
X-WR-CALNAME:Centrum Kultury Teatr w Grudziądzu
X-ORIGINAL-URL:http://teatr.grudziadz.pl
X-WR-CALDESC:Events for Centrum Kultury Teatr w Grudziądzu
BEGIN:VEVENT
DTSTART;TZID="Europe/Warsaw":20200501T000000
DTEND;TZID="Europe/Warsaw":20200517T235500
DTSTAMP:20260422T153812
CREATED:20200504T075048
LAST-MODIFIED:20200520T093809
UID:20774-1588291200-1589759700@teatr.grudziadz.pl
SUMMARY:"OTUCHA do ucha"
DESCRIPTION:\n[button link="http://teatr.grudziadz.pl/17-05-otucha-do-ucha-galeria-prac/" type="big" newwindow="yes"] GALERIA WSZYSTKICH PRAC[/button]\nOtwórz serce! Uruchom dobroć! Wykonaj kartkę z życzeniami dla Pacjentów grudziądzkiego szpitala. Pacjenci\, leżący w naszej jednostce\, to Ludzie\, którzy cierpią\, są chorzy\, często ciężko... Nie mogą liczyć na kontakt z bliskimi\, nie mogą zobaczyć swoich Rodzin\, ani ich usłyszeć... Ale nie są sami! Poza murami szpitala są też inni ludzie\, jesteśmy MY. Podarujmy im odrobinę uśmiechu i dajmy znać\, że myślimy\, że wspieramy\, po prostu\, że JESTEŚMY Z NIMI.\n\n[embed]https://www.youtube.com/watch?v=wHJ_YUyGRBg&feature=emb_logo%20[/embed]\n\n \n\n\nŻyczenia do pobrania:\n\n\nŻyczenia do pobrania PDF\n\nŻyczenia do pobrania DOC\n\n \n\n\n\n \n[button link="http://teatr.grudziadz.pl/17-05-otucha-do-ucha-galeria-prac/" type="big" newwindow="yes"] GALERIA WSZYSTKICH PRAC[/button]
URL:http://teatr.grudziadz.pl/wydarzenie/otucha-do-ucha/
LOCATION:Teatralna\, 1\, Grudziądz\, 86-300\, Polska
CATEGORIES:Wystawy
ATTACH;FMTTYPE=image/jpeg:http://teatr.grudziadz.pl/wp-content/uploads/2020/05/otucha.jpg
ORGANIZER;CN="CK%20Teatr%20w%20Grudzi%C4%85dzu":MAILTO:oliwia@teatr.grudziadz.pl
END:VEVENT
END:VCALENDAR