BEGIN:VCALENDAR
VERSION:2.0
PRODID:-//Centrum Kultury Teatr w Grudziądzu - ECPv4.0.5//NONSGML v1.0//EN
CALSCALE:GREGORIAN
METHOD:PUBLISH
X-WR-CALNAME:Centrum Kultury Teatr w Grudziądzu
X-ORIGINAL-URL:http://teatr.grudziadz.pl
X-WR-CALDESC:Events for Centrum Kultury Teatr w Grudziądzu
BEGIN:VEVENT
DTSTART;TZID="Europe/Warsaw":19700101T000000
DTEND;TZID="Europe/Warsaw":19700101T000000
DTSTAMP:20260420T044818
CREATED:20250206T200609
LAST-MODIFIED:20250824T140601
UID:50675-0-0@teatr.grudziadz.pl
SUMMARY:Otwarcie wystawy
DESCRIPTION:
URL:http://teatr.grudziadz.pl/wydarzenie/otwarcie-wystawy-20/
LOCATION:ul. Wybickiego 38\, Grudziądz
END:VEVENT
END:VCALENDAR