BEGIN:VCALENDAR
VERSION:2.0
PRODID:-//Centrum Kultury Teatr w Grudziądzu - ECPv4.0.5//NONSGML v1.0//EN
CALSCALE:GREGORIAN
METHOD:PUBLISH
X-WR-CALNAME:Centrum Kultury Teatr w Grudziądzu
X-ORIGINAL-URL:http://teatr.grudziadz.pl
X-WR-CALDESC:Events for Centrum Kultury Teatr w Grudziądzu
BEGIN:VEVENT
DTSTART;TZID="Europe/Warsaw":20241019T190000
DTEND;TZID="Europe/Warsaw":20241019T190000
DTSTAMP:20260421T102011
CREATED:20240626T172504
LAST-MODIFIED:20240904T194055
UID:46916-1729364400-1729364400@teatr.grudziadz.pl
SUMMARY:Pidżama Porno – koncert
DESCRIPTION:Pidżama Porno powstała w grudniu 1987 roku z inicjatywy Krzysztofa Grabowskiego i\nAndrzeja Kozakiewicza\, ówczesnych studentów poznańskiego uniwersytetu. W 1989 roku\nnagrali swój pierwszy materiał\, zatytułowany „Ulice jak stygmaty”. Równocześnie\nzadebiutowali na Dużej Scenie Festiwalu w Jarocinie\, Festiwalu w Sopocie i jako pierwsza\npolska kapela undergroundowa zagrali w Pradze. W 1990 roku Pidżama Porno nagrała w\nSzczecinie drugą płytę „Futurista”. Zespołowi w chórkach towarzyszyła nieznana wówczas\nKasia Nosowska. Album „Futurista” oficjalną premierę miał dopiero w 1996 roku. Marcin\nŚwietlicki\, na łamach Tygodnika Powszechnego\, pisał jak o „cudownie odnalezionym\,\nbrakujący łańcuszku w polskim rocku”.\nW 1990 roku Pidżama Porno ponownie zagrała na jarocińskim festiwalu\, odbyła\nkoncertową trasę po Czechosłowacji\, po czym rozpadła się. W styczniu 1995 roku grupa\nreaktywowała się. Wtedy też ukazał się kasetowy maxisingiel „Zamiast burzy”\, który\nprzyniósł Pidżamie wielką popularność i nowe pokolenie fanów. W 1996 roku zespół\npodpisał kontrakt z firmą S.P. Records. Pierwszym efektem tej współpracy był trzeci album\nPidżamy „Złodzieje Zapalniczek” (luty 1997). Piosenki z płyty : „Ezoteryczny Poznań”\, „Bal\nu Senatora ’93″ przez wiele tygodni gościły na radiowych listach przebojów w całej Polsce.\nAlbum doczekał się entuzjastycznych recenzji w prasie\, nie tylko muzycznej. Wideoklip\nnakręcony do utworu „Bal u Senatora ’93″ otrzymał wyróżnienie na Yach Film Festiwal ’97\njako jeden z trzech najlepszych polskich teledysków 1997 roku. Po 10 latach od premiery\,\nZłodzieje zapalniczek” zostali ponownie nagrani i wydani przez SP Records. 15 czerwca\n1998 roku ukazała się kolejna płyta grupy\, zatytułowana „Styropian”\, promowana kolejno\nutworami „Do Nieba Wzięci” ( clip w reżyserii Małgorzaty i Piotra Maciejewskich) i „Gdy\nzostajesz u mnie na noc” . Teledysk towarzyszący drugiemu singlowi otrzymał nominację\nna Yach Film Festival`99 w kategorii „Najlepszy scenariusz” (Andrzej Kozakiewicz\,\nKrzysztof Grabowski\, Małgorzata Maciejewska\, Piotr Maciejewski). 7 czerwca 1999 roku\nukazała się płyta p.t. „Ulice ja stygmaty – absolutne rarytasy”. To album\, na którym\nznalazły się najstarsze kawałki Pidżamy\, grane przez zespół jeszcze w latach 80tych.\nGrabaż i koledzy chcąc mieć więcej czasu na przemyślenie spraw związanych z\n„normalnym” albumem wpadli na pomysł zarejestrowania swych legendarnych kawałków\njuż po „bożemu”. Trzeba pamiętać\, że utwory\, które pierwotnie znalazły się na „Ulicach…”\nz lat 80tych były zapisem próby grupy nagranej na magnetofon typu „Kasprzak”.\nPierwszym singlem promującym album był utwór „Katarzyna ma katar „.\nW sierpniu 1999 roku Pidżama Porno po raz pierwszy zagrała na Festiwalu Woodstock w\nŻarach. W zgodnej opinii publiczności\, prasy oraz samego Jurka Owsiaka był to jeden z\nnajbardziej energetycznych momentów na Woodstock – o czym można się przekonać\noglądając teledysk Pidżamy do utworu „Outsider”\, który nakręcono właśnie podczas\nkoncertu grupy w Żarach. Tam też padł rekord frekwencji na pidżamowych koncertach.\nZespołu nie chciało wypuścić ze sceny ponad 200 tysięcy ludzi!!!\n\n \n\n23 kwietnia 2001 roku ukazała si płyta „Marchef w butonierce”. Nad tym albumem\nPidżama pracowała dwa lata. Długo\, ale opłaciło się czekać ponieważ album okazał się\nnajlepszą płytą Pidżamy Porno. Pierwszym singlem promującym album była piosenka\n„Twoja generacja”. Utwór zagościł na listach przebojów prawie we wszystkich rozgłośniach\nradiowych. Przez długi czas był na pierwszym miejscu Listy tygodnia w Radiostacji\, jak\nrównież znalazł się na liście przebojów programu III Marka Niedźwiedzkiego. W 2002 roku\njesienią zespół wydał długo przez fanów oczekiwaną płytę live – „Koncertówka 1″\nNagrania z tej płyty pochodzą z XIII urodzin Pidżamy w Poznaniu z grudnia 2000 roku (\nwiększość) oraz październikowego koncertu w Proximie (mniejszość) w 2001 roku.\nZawartość tej płyty daje znakomity przykład niepowtarzalnej atmosfery koncertów grupy.\n„Koncertówkę” Pidżamy pomagał promować teledysk „Bon Ton Na Ostrzu Noża”\nDoskonałym uzupełnieniem emocji związanych z koncertowymi przygodami Pidżamy jest\nPart II „Koncertówki”\, wydany jesienią 2003 roku.\nIstotnym wydarzeniem był występ podczas Punk Rock Later\, na którym zagrały legendy\npolskiego gniewnego rocka lat 80-tych\, zaś sam Grabaż był jednym z bohaterów książki\nM. Lizuta oraz współpomysłodawcą koncertu PRL w Warszawie. Przy okazji tego\nwydarzenia wznowienia na CD doczekały się pierwsze nagrania PP z 1988 roku\, z kasety\n„Ulice jak stygmaty”.\nW 2004 roku Pidżama przystąpiła do intensywnych prac nad swoim najnowszym\nstudyjnym albumem – „Bułgarskie Centrum”. 12 sierpnia w Żeleźnicy pod Piłą\, w Studiu\n„Q” \, po dwumiesięcznym maratonie Pidżama ukończyła prace nad nową płytą. Premierę\nnowego albumu Pidżama ustalono na 20 września 2004 roku\, zaś na pierwszy singiel\nwybrano „Wirtualnych chłopców”. \, Drugim singlem z BC był utwór „Nikt tak pięknie nie\nmówił że się boi miłości” – jak się po latach okazało jeden z największych hitów PP. W\nczerwcu grupa była jedną z gwiazd Festiwalu Rockowego w Węgorzewie. W lipcu Grabaż\nbył bohaterem wakacyjnego wydania „Lampy”\, do której dołączono płytę „Radio Ości”\, na\nktórej znalazły się niepublikowane dotąd oficjalnie archiwalne nagrania grup: Ręce Do\nGóry\, Ryzyko\, Lavina Cox\, Pidżama Porno i Strachy Na Lachy. W latach 2006 / 2007\nzespół wydał dwa wydawnictwa dvd\, oba koncertowe: „Finalista” oraz „20″.\nZ końcem roku 2007ego Pidżama Porno bezterminowo zawiesiła swą działalność. Lata\n2008 -2014 to już tylko historia okazjonalnych „odwieszeń” grupy. W 2010 roku PP\nwystąpiła\, jako główna gwiazda\, na XXX Jarocin Festival. Rok później\, jako headliner\,\nwystąpiła na Even Horizon Fest. W łódzkiej Atlas Arenie w obecności 10 tysięcy widzów\nzespół zagrał swój najgorszy koncert w karierze. Wydarzenie to dokumentuje trzecie w\nvideografii kapeli wydawnictwo dvd – „Breżniew – ujrzałem śmierć na scenie” W 2012 roku\nPidżama Porno zagrała na Festiwalu „Odjazdy”. Niestety znów jako „gwiazda”. W 2014\,\npodczas koncertu z okazji 30 lecia scenicznej pracy Grabaża\, Pidżama zagrała 5 utworów\nna Jarocin Festivalu. Był to ostatni koncert grupy z Julem i Dziadkiem w składzie.\nOd września 2014 roku Pidżama Porno funkcjonuje jako trio. w składzie: Grabaż\, Kozak i\nKuzyn.\n\n\n\nBILETY ONLINE:\n[button link="https://www.bilety24.pl/koncert/1345-pidzama-porno-112705?id=644625" type="big" newwindow="yes"] BILETY24.PL[/button]
URL:http://teatr.grudziadz.pl/wydarzenie/pidzama-porno-koncert-4/
LOCATION:ul. Wybickiego 38
CATEGORIES:Koncert
ATTACH;FMTTYPE=image/jpeg:http://teatr.grudziadz.pl/wp-content/uploads/2024/06/pidżama-porno.jpg
END:VEVENT
END:VCALENDAR