BEGIN:VCALENDAR
VERSION:2.0
PRODID:-//Centrum Kultury Teatr w Grudziądzu - ECPv4.0.5//NONSGML v1.0//EN
CALSCALE:GREGORIAN
METHOD:PUBLISH
X-WR-CALNAME:Centrum Kultury Teatr w Grudziądzu
X-ORIGINAL-URL:http://teatr.grudziadz.pl
X-WR-CALDESC:Events for Centrum Kultury Teatr w Grudziądzu
BEGIN:VEVENT
DTSTART;TZID="Europe/Warsaw":20210201T180000
DTEND;TZID="Europe/Warsaw":20210201T180000
DTSTAMP:20260422T055829
CREATED:20210119T102052
LAST-MODIFIED:20210201T101428
UID:22879-1612202400-1612202400@teatr.grudziadz.pl
SUMMARY:"Przy kawie o Teatrze"
DESCRIPTION:„Przy kawie o teatrze” - w czasach\, gdy tak wielu\, tak bardzo tęskni za teatrem i sceną zapraszamy do oglądania przedstawień w sieci. Wszyscy wiemy\, że to nie to samo co „żywy aktor” na scenie\, ale  dziś musi nam to wystarczyć. Propozycje i recenzje najciekawszych przedstawień teatralnych dostępnych online – przygotuje dla Państwa Alicja Celmer.\n\nW tym tygodniu zapraszam Państwa do obejrzenia przedstawienia pt. "Saksofon". Spektakl powstał na podstawie nagrodzonej nagrodą Nike w 2007 roku powieści Wiesława Myśliwskiego "Traktat o łuskaniu fasoli". Adaptacja i reżyseria Izabela Cywińska\, zdjęcia Piotr Śliskowski\, montaż Anna Wagner.\n\nScenografia Marcina Stajewskiego jest niezwykle realistyczna. Akcja przedstawienia rozgrywa się w dwóch niezależnych przestrzeniach.Najpierw w skromnej chacie stróża pilnującego domków letniskowych. Nasz Bohater dorabia sobie sprzedażą fasoli.I właśnie po fasolę przyszedł do niego przyjezdny Pan w Kapeluszu. Bohater zaprasza przybysza do łuskania i rozpoczyna niespieszną opowieść o swoim życiu. Druga przestrzeń to kawiarnia gdzieś na Zachodzie Europy\, gdzie przy kawie spotykają się dwaj nieznajomi panowie. Tym razem Pan w Kapeluszu opowiada Bohaterowi swoje wspomnienia z dzieciństwa\, jednak ich doświadczenia krańcowo się różnią. A jednak losy obu splatają się\, obaj są w podobnym wieku. Jak mówi jeden z nich: "To wyobraźnia ustanawia naszą pamięć\, a przypadek to usprawiedliwienie tego\, czego nie jesteśmy w stanie zrozumieć." Spotkania obu mężczyzn są opowieścią o winie i karze\, życiu i śmierci\, o przypadku i przeznaczeniu z punktu widzenia jednostki uwikłanej w historię.\n\nTen kameralny spektakl to fenomenalny popis dwóch wielkich aktorów Janusza Gajosa i Jerzego Radziwiłowicza. Kunsztowny i precyzyjny występ wzbogacony kapitalnym montażem Anny Wagner. Dla widza uczta teatralna\, mistrzostwo wykonania z najwyższej półki polskiej sceny teatralnej.\n\nLink do spektaklu:\n\nhttps://ninateka.pl/film/saksofon-izabela-cywinska
URL:http://teatr.grudziadz.pl/wydarzenie/przy-kawie-o-teatrze-4/
LOCATION:Teatralna\, 1\, Grudziądz\, 86-300\, Polska
CATEGORIES:Koncert
ATTACH;FMTTYPE=image/jpeg:http://teatr.grudziadz.pl/wp-content/uploads/2021/01/138081807_4152855071411328_6665996504228480595_n.jpg
ORGANIZER;CN="CK%20Teatr%20w%20Grudzi%C4%85dzu":MAILTO:oliwia@teatr.grudziadz.pl
END:VEVENT
END:VCALENDAR