BEGIN:VCALENDAR
VERSION:2.0
PRODID:-//Centrum Kultury Teatr w Grudziądzu - ECPv4.0.5//NONSGML v1.0//EN
CALSCALE:GREGORIAN
METHOD:PUBLISH
X-WR-CALNAME:Centrum Kultury Teatr w Grudziądzu
X-ORIGINAL-URL:http://teatr.grudziadz.pl
X-WR-CALDESC:Events for Centrum Kultury Teatr w Grudziądzu
BEGIN:VEVENT
DTSTART;TZID="Europe/Warsaw":20200507T190000
DTEND;TZID="Europe/Warsaw":20200507T190000
DTSTAMP:20260422T120415
CREATED:20200508T113549
LAST-MODIFIED:20200508T114011
UID:20839-1588878000-1588878000@teatr.grudziadz.pl
SUMMARY:DKF: Rekomendacja Iwony Madej-Karetko
DESCRIPTION:Dziś filmowa rekomendacja od niezwykłej kobiety\, kto zna ten wie:). Iwona Madej-Karetko na co dzień zachwyca uśmiechem\, zachęca do ciągłej pracy nad sobą i tak często mówi "pokochaj własną niedoskonałość". Dziś proponuje nam dwa filmy bardzo różne\, posiadające jedną wspólną cechę .... w jednym i drugim tytule\, bohater/ bohaterka szukają własnego szczęścia.\nWszak SZCZĘŚCIE nie dla wszystkich znaczy to samo....\n\nRekomendacja filmowa
URL:http://teatr.grudziadz.pl/wydarzenie/qltura-na-weekend-rozmowa-z-jackiem-jaszczykiem/
LOCATION:Teatralna\, 1\, Grudziądz\, 86-300\, Polska
CATEGORIES:Koncert
ORGANIZER;CN="CK%20Teatr%20w%20Grudzi%C4%85dzu":MAILTO:oliwia@teatr.grudziadz.pl
END:VEVENT
END:VCALENDAR