BEGIN:VCALENDAR
VERSION:2.0
PRODID:-//Centrum Kultury Teatr w Grudziądzu - ECPv4.0.5//NONSGML v1.0//EN
CALSCALE:GREGORIAN
METHOD:PUBLISH
X-WR-CALNAME:Centrum Kultury Teatr w Grudziądzu
X-ORIGINAL-URL:http://teatr.grudziadz.pl
X-WR-CALDESC:Events for Centrum Kultury Teatr w Grudziądzu
BEGIN:VEVENT
DTSTART;TZID="Europe/Warsaw":20200602T190000
DTEND;TZID="Europe/Warsaw":20200602T190000
DTSTAMP:20260422T135500
CREATED:20200604T072051
LAST-MODIFIED:20200604T072051
UID:21311-1591124400-1591124400@teatr.grudziadz.pl
SUMMARY:Qltura po Grudziądzku: Mądzielewski i Jędrzejewski
DESCRIPTION:Zapraszamy na wtorkowy cykl Qltura po Grudziądzku. Tym razem Mądzielewski i Jędrzejewski.\n\n[embed]https://youtu.be/VaA8jJF5cCY[/embed]
URL:http://teatr.grudziadz.pl/wydarzenie/qltura-po-grudziadzku-madzielewski-i-jedrzejewski/
LOCATION:Teatralna\, 1\, Grudziądz\, 86-300\, Polska
CATEGORIES:Koncert
ORGANIZER;CN="CK%20Teatr%20w%20Grudzi%C4%85dzu":MAILTO:oliwia@teatr.grudziadz.pl
END:VEVENT
END:VCALENDAR