BEGIN:VCALENDAR
VERSION:2.0
PRODID:-//Centrum Kultury Teatr w Grudziądzu - ECPv4.0.5//NONSGML v1.0//EN
CALSCALE:GREGORIAN
METHOD:PUBLISH
X-WR-CALNAME:Centrum Kultury Teatr w Grudziądzu
X-ORIGINAL-URL:http://teatr.grudziadz.pl
X-WR-CALDESC:Events for Centrum Kultury Teatr w Grudziądzu
BEGIN:VEVENT
DTSTART;TZID="Europe/Warsaw":20200505T190000
DTEND;TZID="Europe/Warsaw":20200505T190000
DTSTAMP:20260422T134208
CREATED:20200505T103004
LAST-MODIFIED:20200505T103004
UID:20834-1588705200-1588705200@teatr.grudziadz.pl
SUMMARY:Qltura po Grudziądzku: Ryszard Milczewski-Bruno
DESCRIPTION:Zapraszamy na cykl wspomnień "Qltura po Grudziądzku". Jako pierwszą przypominamy postać Ryszarda Milczewskiego- Bruna. Poetę wspomina syn Sławomir  Milczewski.\n\n[embed]https://www.youtube.com/watch?v=rU8BTfkd-1Y[/embed]
URL:http://teatr.grudziadz.pl/wydarzenie/qltura-po-grudziadzku-ryszard-milczewski-bruno/
LOCATION:Teatralna\, 1\, Grudziądz\, 86-300\, Polska
CATEGORIES:Koncert
ATTACH;FMTTYPE=image/png:http://teatr.grudziadz.pl/wp-content/uploads/2020/05/1.png
ORGANIZER;CN="CK%20Teatr%20w%20Grudzi%C4%85dzu":MAILTO:oliwia@teatr.grudziadz.pl
END:VEVENT
END:VCALENDAR