BEGIN:VCALENDAR
VERSION:2.0
PRODID:-//Centrum Kultury Teatr w Grudziądzu - ECPv4.0.5//NONSGML v1.0//EN
CALSCALE:GREGORIAN
METHOD:PUBLISH
X-WR-CALNAME:Centrum Kultury Teatr w Grudziądzu
X-ORIGINAL-URL:http://teatr.grudziadz.pl
X-WR-CALDESC:Events for Centrum Kultury Teatr w Grudziądzu
BEGIN:VEVENT
DTSTART;TZID="Europe/Warsaw":20200512T190000
DTEND;TZID="Europe/Warsaw":20200512T190000
DTSTAMP:20260424T110253
CREATED:20200507T083329
LAST-MODIFIED:20200507T083329
UID:20837-1589310000-1589310000@teatr.grudziadz.pl
SUMMARY:Qltura po Grudziądzku: Vacat 45 lat na scenie – koncert jubileuszowy
DESCRIPTION:Zapraszamy na wtorkowy cykl Qltura po Grudziądzku. Tym razem 45-lecie zespołu VACAT.\n\n[embed]https://youtu.be/BB1gIqanq0c[/embed]
URL:http://teatr.grudziadz.pl/wydarzenie/qltura-po-grudziadzku-vacat-45-lat-na-scenie-koncert-jubileuszowy/
LOCATION:Teatralna\, 1\, Grudziądz\, 86-300\, Polska
CATEGORIES:Koncert
ORGANIZER;CN="CK%20Teatr%20w%20Grudzi%C4%85dzu":MAILTO:oliwia@teatr.grudziadz.pl
END:VEVENT
END:VCALENDAR