BEGIN:VCALENDAR
VERSION:2.0
PRODID:-//Centrum Kultury Teatr w Grudziądzu - ECPv4.0.5//NONSGML v1.0//EN
CALSCALE:GREGORIAN
METHOD:PUBLISH
X-WR-CALNAME:Centrum Kultury Teatr w Grudziądzu
X-ORIGINAL-URL:http://teatr.grudziadz.pl
X-WR-CALDESC:Events for Centrum Kultury Teatr w Grudziądzu
BEGIN:VEVENT
DTSTART;TZID="Europe/Warsaw":20200521T190000
DTEND;TZID="Europe/Warsaw":20200521T190000
DTSTAMP:20260422T133246
CREATED:20200515T075209
LAST-MODIFIED:20200522T073115
UID:20970-1590087600-1590087600@teatr.grudziadz.pl
SUMMARY:Rekomendacja DKF: Maciej Gburczyk
DESCRIPTION:Facebook - kliknij tutaj\, żeby zobaczyć rekomendację.\n
URL:http://teatr.grudziadz.pl/wydarzenie/rekomendacja-dkf/
LOCATION:Teatralna\, 1\, Grudziądz\, 86-300\, Polska
CATEGORIES:Inne
ORGANIZER;CN="CK%20Teatr%20w%20Grudzi%C4%85dzu":MAILTO:oliwia@teatr.grudziadz.pl
END:VEVENT
END:VCALENDAR