BEGIN:VCALENDAR
VERSION:2.0
PRODID:-//Centrum Kultury Teatr w Grudziądzu - ECPv4.0.5//NONSGML v1.0//EN
CALSCALE:GREGORIAN
METHOD:PUBLISH
X-WR-CALNAME:Centrum Kultury Teatr w Grudziądzu
X-ORIGINAL-URL:http://teatr.grudziadz.pl
X-WR-CALDESC:Events for Centrum Kultury Teatr w Grudziądzu
BEGIN:VEVENT
DTSTART;TZID="Europe/Warsaw":20240525T170000
DTEND;TZID="Europe/Warsaw":20240525T170000
DTSTAMP:20260419T154418
CREATED:20240410T140804
LAST-MODIFIED:20240509T124337
UID:45999-1716656400-1716656400@teatr.grudziadz.pl
SUMMARY:SKALDOWIE - koncert z Okazji Dnia Matki
DESCRIPTION:Z okazji Dnia Matki Skaldowie wystąpią na Centrum Kultury Teatr w Grudziądzu. Zapraszamy na koncert legendarnego zespołu dedykowany wszystkim Mamom.\nZespół Skaldowie powstał w 1965 r. i do dziś w prawie niezmienionym składzie (od stycznia 1968r.) koncertuje i nagrywa nowe płyty. Skaldowie\, to bez wątpienia fenomen w historii polskiej muzyki rozrywkowej; jedna z najbardziej oryginalnych\, a zarazem najbardziej popularnych grup jaka kiedykolwiek powstała w Polsce. Zespół podczas 55-letniej działalności przedstawił tak bogaty i różnorodny repertuar\, że "zaszufladkowanie" go w jednym konkretnym gatunku\, wydaje się zadaniem prawie niemożliwym.\nW ich twórczości odnajdujemy nie tylko różne odmiany muzyki młodzieżowej (pop i rock)\, ale również niezwykle popularny w latach 70. rock psychodeliczny\, rock progresywny\, a nawet blues i jazz-rock.\nGłówni kompozytorzy i liderzy zespołu\, Andrzej i Jacek Zielińscy\, w swoich kompozycjach kreatywnie wykorzystują i przetwarzają nie tylko wspomniane wyżej gatunki muzyczne\, ale często wzbogacają je o elementy muzyki góralskiej i klasycznej. W ten sposób nadają swojej twórczości swoisty\, oryginalny i niepowtarzalny charakter\, który sprawił\, że mimo upływu lat - muzyka Skaldów nadal brzmi świeżo i porywająco. Zespół wydal ponad dwadzieścia albumów (ostatni "Taki blues" w 2019 r.)\, był wielokrotnie nagradzany na festiwalach w Opolu i Sopocie m.in. w 2009 r. w Opolu otrzymał Grand Prix za całokształt oraz odsłonił swoją gwiazdę na opolskiej alei gwiazd. W roku 2019 grupa otrzymała "Złotego Fryderyka" oraz "Mateusza Trójki" - nagrodę programu Trzeciego Polskiego Radia.\nDla Skaldów pisali tacy autorzy jak: Leszek Aleksander Moczulski\, Agnieszka Osiecka\, Wojciech Młynarski\, Andrzej Jastrzębiec-Kozłowski\, Tadeusz Śliwiak\, Andrzej Kuryło czy Ewa Lipska. Trudno zliczyć przeboje zespołu\, bo któż nie zna takich ich hitów jak: "Cała jesteś w skowronkach"\, "Wszystko mi mówi\, że mnie ktoś pokochał"\, "Prześliczna wiolonczelistka"\, "Medytacje wiejskiego listonosza"\, "Życzenia z całego serca"\, "Wierniejsza od marzenia"\, "Nie widzę ciebie w swych marzeniach" i wiele\, wiele innych.\n\nSkaldowie wystąpią w składzie:\nAndrzej Zieliński (instrumenty klawiszowe\, organy Hammonda\, śpiew)\,\nBogumił Zieliński\,\nGabriela Zielińska-Tarcholik\,\nWojciech Zieliński\,\nRafał Tarcholik.\n\n[video width="1920" height="1080" mp4="http://teatr.grudziadz.pl/wp-content/uploads/2024/04/SKALDOWIE-TV.mp4"][/video]
URL:http://teatr.grudziadz.pl/wydarzenie/skaldowie-koncert-z-okazji-dnia-matki/
LOCATION:Teatralna\, 1\, Grudziądz\, 86-300\, Polska
CATEGORIES:Koncert
ATTACH;FMTTYPE=image/png:http://teatr.grudziadz.pl/wp-content/uploads/2024/04/skaldowie-bilety24pl-e1712758031715.png
END:VEVENT
END:VCALENDAR