BEGIN:VCALENDAR
VERSION:2.0
PRODID:-//Centrum Kultury Teatr w Grudziądzu - ECPv4.0.5//NONSGML v1.0//EN
CALSCALE:GREGORIAN
METHOD:PUBLISH
X-WR-CALNAME:Centrum Kultury Teatr w Grudziądzu
X-ORIGINAL-URL:http://teatr.grudziadz.pl
X-WR-CALDESC:Events for Centrum Kultury Teatr w Grudziądzu
BEGIN:VEVENT
DTSTART;TZID="Europe/Warsaw":20240223T193000
DTEND;TZID="Europe/Warsaw":20240223T193000
DTSTAMP:20260419T201837
CREATED:20231113T113453
LAST-MODIFIED:20240131T115156
UID:43875-1708716600-1708716600@teatr.grudziadz.pl
SUMMARY:Stand-up: Tomasz Kwiatkowski
DESCRIPTION:Nowy program\, nowy ja. Jak zawsze\, z sercem na dłoni i piachem w zębach.\n\nProgram przeznaczony dla rozczarowanych osób po dowolnym roku życia. Zakaz nagrywania\, nie trzeba\, samo wyryje się w pamięci. Nie napisałem tych żartów po to\, żebyście się dobrze czuli.\n\nJak na moje\, możecie wnosić własne picie\, ale jak Was wyrzucą z klubu\, to ja i tak zatrzymuje hajs za bilet\, nie moja wina\, że nie umiecie się zachować.
URL:http://teatr.grudziadz.pl/wydarzenie/stand-up-21/
LOCATION:ul. Wybickiego 38
CATEGORIES:Stand-up
ATTACH;FMTTYPE=image/jpeg:http://teatr.grudziadz.pl/wp-content/uploads/2023/11/tczew-x.jpg
ORGANIZER;CN="CK%20Teatr%20w%20Grudzi%C4%85dzu":MAILTO:oliwia@teatr.grudziadz.pl
END:VEVENT
END:VCALENDAR