BEGIN:VCALENDAR
VERSION:2.0
PRODID:-//Centrum Kultury Teatr w Grudziądzu - ECPv4.0.5//NONSGML v1.0//EN
CALSCALE:GREGORIAN
METHOD:PUBLISH
X-WR-CALNAME:Centrum Kultury Teatr w Grudziądzu
X-ORIGINAL-URL:http://teatr.grudziadz.pl
X-WR-CALDESC:Events for Centrum Kultury Teatr w Grudziądzu
BEGIN:VEVENT
DTSTART;TZID="Europe/Warsaw":20211126T193000
DTEND;TZID="Europe/Warsaw":20211126T193000
DTSTAMP:20260421T234405
CREATED:20211008T121820
LAST-MODIFIED:20211109T125704
UID:25795-1637955000-1637955000@teatr.grudziadz.pl
SUMMARY:Stand-up: Daniel Midas i Paweł Konkiel
DESCRIPTION:Takiego składu nie było jeszcze w Grudziądzu! Tiktoker oraz memiarz\, a przy tym świetni komicy\, będą mieli przyjemność wystąpić dla Was w Scenie. Możecie liczyć na dwie godziny znakomitej zabawy. To jak\, z kim się widzimy?\n\nDaniel Midas - okrycie Internetu tego roku. Komik\, którego "szopkę dla reportera" oglądają już wszyscy. Od kierowców\, przez nauczycielki\, aż po znanych adwokatów. Jego ulubionym tekstem na podryw jest: "Jestem z Kaszewiakiem po imieniu." - podobno 100% skuteczność. Prywatnie - bardzo pozytywny i zawsze uśmiechnięty chłopak. Gość ma dwa metry wzrostu\, więc jak go poprosicie to pewnie zdejmie Wam coś z górnej półki.\n\nPaweł Konkiel - śmieszek\, memiarz\, komik\, paranoik i ekspantoflarz. W materiale "STAN PRZEDZAWAŁOWY"\, pokaże męski punkt widzenia życiowego luzaka\, trochę marudy\, trochę wrażliwego dobrego chłopaka\, co to dzień dobry na klatce mówi. Prowadzenie: Tomasz Kwiatkowski
URL:http://teatr.grudziadz.pl/wydarzenie/stand-up-8/
LOCATION:ul. Wybickiego 38
CATEGORIES:Koncert
ATTACH;FMTTYPE=image/jpeg:http://teatr.grudziadz.pl/wp-content/uploads/2021/10/b1yo6fdzt4xm2bvc.jpg
ORGANIZER;CN="CK%20Teatr%20w%20Grudzi%C4%85dzu":MAILTO:oliwia@teatr.grudziadz.pl
END:VEVENT
END:VCALENDAR