BEGIN:VCALENDAR
VERSION:2.0
PRODID:-//Centrum Kultury Teatr w Grudziądzu - ECPv4.0.5//NONSGML v1.0//EN
CALSCALE:GREGORIAN
METHOD:PUBLISH
X-WR-CALNAME:Centrum Kultury Teatr w Grudziądzu
X-ORIGINAL-URL:http://teatr.grudziadz.pl
X-WR-CALDESC:Events for Centrum Kultury Teatr w Grudziądzu
BEGIN:VEVENT
DTSTART;TZID="Europe/Warsaw":20220210T190000
DTEND;TZID="Europe/Warsaw":20220210T190000
DTSTAMP:20260421T173422
CREATED:20220113T120235
LAST-MODIFIED:20220118T133639
UID:28119-1644519600-1644519600@teatr.grudziadz.pl
SUMMARY:Stand-up – Mateusz Socha
DESCRIPTION:Mateusz Socha - dynamiczny i energiczny komik\, który wyspecjalizował się w tzw. storytellingu. Cechą charakterystyczną jego występów są pełne dygresji i wewnętrznych anegdot\, długie i złożone historie\, które zawsze są zamykane sprawnie użytą klamrą. Mateusz w sprawny sposób odbija piłeczki od publiczności\, nie daje sobie wejść na głowę i ciężko go wybić z rytmu\, bez problemu wraca do swoich żartów\, nawet po dłuższej dywagacji czy rozmowie z widzem. Socha to człowiek na scenie aktywny\, ekspresyjny\, grający w dużej mierze mimiką\, odpowiednio rozłożonymi callbackami i gestami. Nieodłącznym elementem jego występów stał się więc ręcznik\, no i nic dziwnego\, skoro na scenie jest przedstawiona cała emocja wyraziście odegranych emocji. Obecnie na fali wznoszącej\, nie bez powodu\, bo jest to człowiek pracowity i sumienny\, który ze swoim poczuciem humoru\, bardzo dopracowanym i dobrym materiałem idealnie wstrzelił się w zapotrzebowanie komediowe.\nUWAGA!\n\n- Wstęp na wydarzenie będzie możliwy tylko i wyłącznie w\nobowiązującym aktualnie reżimie sanitarnym\n- Występ dla osób powyżej 18 roku życia (między 16 a 18 rokiem\nżycia z pisemnym pozwoleniem od rodziców)\n\n- Występ może być nagrywany. Zakup biletu równoważny jest ze zgodą\nna upublicznienie swojego wizerunku.\n\n- Nagrywanie występu w formie audio i video jest zabronione\n\n- Bilet nie daje prawa do przeszkadzania występującym.\n\n- Organizator zastrzega sobie prawo wyproszenia przeszkadzającej osoby\,\nbez możliwości zwrotu za bilety.\n\n- Kupując bilet akceptujesz powyższe uwagi.
URL:http://teatr.grudziadz.pl/wydarzenie/stand-up-mateusz-socha-2/
LOCATION:Teatralna\, 1\, Grudziądz\, 86-300\, Polska
CATEGORIES:Spektakle
ATTACH;FMTTYPE=image/jpeg:http://teatr.grudziadz.pl/wp-content/uploads/2022/01/socha-ile-można2540.jpg
ORGANIZER;CN="CK%20Teatr%20w%20Grudzi%C4%85dzu":MAILTO:oliwia@teatr.grudziadz.pl
END:VEVENT
END:VCALENDAR