BEGIN:VCALENDAR
VERSION:2.0
PRODID:-//Centrum Kultury Teatr w Grudziądzu - ECPv4.0.5//NONSGML v1.0//EN
CALSCALE:GREGORIAN
METHOD:PUBLISH
X-WR-CALNAME:Centrum Kultury Teatr w Grudziądzu
X-ORIGINAL-URL:http://teatr.grudziadz.pl
X-WR-CALDESC:Events for Centrum Kultury Teatr w Grudziądzu
BEGIN:VEVENT
DTSTART;TZID="Europe/Warsaw":20200214T193000
DTEND;TZID="Europe/Warsaw":20200214T193000
DTSTAMP:20260421T182358
CREATED:20190819T105520
LAST-MODIFIED:20200210T073152
UID:17668-1581708600-1581708600@teatr.grudziadz.pl
SUMMARY:Komediowa Hekatomba Grudziądza: Cezary Ponttefski & Karol Kopiec
DESCRIPTION:Wystąpią:\n\nW programie "Psycha siada"\nCezary Ponttefski. Jego domeną jest absurdalny humor dla wytrawnych miłośników komedii\, których nudzą już zbyt bezpośrednie żarty i chłop przebrany za babę. Zrobił w życiu parę śmiesznych rzeczy\, na wielu scenach bywał\, roastował Popka\, mogliście go oglądać na antenie Comedy Central.\n\n"Szklanka do połowy"\n\nBędzie to co najlepsze\, czyli fauna i flora w abstrakcyjnym zwierciadle\, ale również dużo historii wziętych prosto z życia… Karol zaprasza nas do niezwykłego świata - niby dobrze znanej nam codzienności\, jednak widzianej jego oczami. Takiego Karola jeszcze nie znacie!\n\nKarol Kopiec\nNa scenie od 2008 roku. Wystąpił m.in. w trzech sezonach Comedy Central prezentuje\, u Kuby Wojewódzkiego oraz na Roaście Michała Szpaka\, który transmitowany był na antenie TVN’u. Kilkukrotnie mogliśmy go oglądać również na antenie TVP2 w takich programach jak: „Dzięki Bogu już weekend” oraz „Tylko dla dorosłych”. Występy Karola są pełne absurdu i optymizmu.\n\nProwadzenie: Arek Paterek\n\nBilety: 25zł\n30zł - w dniu wydarzenia\n\nWydarzenie dla osób dorosłych!!!\n\n* Brak zgody na nagrywanie audio/video.\n* Osoby\, które będą przeszkadzać podczas wydarzenia zostaną wyproszone. Bez zwrotu pieniędzy za bilet.
URL:http://teatr.grudziadz.pl/wydarzenie/stand-up-wieczor-komediowy-27/
LOCATION:ul. Wybickiego 38
CATEGORIES:Stand-up
ATTACH;FMTTYPE=image/jpeg:http://teatr.grudziadz.pl/wp-content/uploads/2019/08/83308250_901315300286445_2583754567522975744_n.jpg
ORGANIZER;CN="CK%20Teatr%20w%20Grudzi%C4%85dzu":MAILTO:oliwia@teatr.grudziadz.pl
END:VEVENT
END:VCALENDAR