BEGIN:VCALENDAR
VERSION:2.0
PRODID:-//Centrum Kultury Teatr w Grudziądzu - ECPv4.0.5//NONSGML v1.0//EN
CALSCALE:GREGORIAN
METHOD:PUBLISH
X-WR-CALNAME:Centrum Kultury Teatr w Grudziądzu
X-ORIGINAL-URL:http://teatr.grudziadz.pl
X-WR-CALDESC:Events for Centrum Kultury Teatr w Grudziądzu
BEGIN:VEVENT
DTSTART;TZID="Europe/Warsaw":20200515T000000
DTEND;TZID="Europe/Warsaw":20200515T000000
DTSTAMP:20260422T122141
CREATED:20191220T101735
LAST-MODIFIED:20200428T075228
UID:19290-1589500800-1589500800@teatr.grudziadz.pl
SUMMARY:Stand-up - wieczór komediowy ODWOŁANY
DESCRIPTION:wkrótce
URL:http://teatr.grudziadz.pl/wydarzenie/stand-up-wieczor-komediowy-30/
LOCATION:ul. Wybickiego 38
CATEGORIES:Stand-up
ORGANIZER;CN="CK%20Teatr%20w%20Grudzi%C4%85dzu":MAILTO:oliwia@teatr.grudziadz.pl
END:VEVENT
END:VCALENDAR