BEGIN:VCALENDAR
VERSION:2.0
PRODID:-//Centrum Kultury Teatr w Grudziądzu - ECPv4.0.5//NONSGML v1.0//EN
CALSCALE:GREGORIAN
METHOD:PUBLISH
X-WR-CALNAME:Centrum Kultury Teatr w Grudziądzu
X-ORIGINAL-URL:http://teatr.grudziadz.pl
X-WR-CALDESC:Events for Centrum Kultury Teatr w Grudziądzu
BEGIN:VEVENT
DTSTART;TZID="Europe/Warsaw":20200612T000000
DTEND;TZID="Europe/Warsaw":20200612T000000
DTSTAMP:20260422T110648
CREATED:20191220T103555
LAST-MODIFIED:20200113T094210
UID:19301-1591920000-1591920000@teatr.grudziadz.pl
SUMMARY:Stand-up – wieczór komediowy
DESCRIPTION:wkrótce
URL:http://teatr.grudziadz.pl/wydarzenie/stand-up-wieczor-komediowy-31/
LOCATION:ul. Wybickiego 38
CATEGORIES:Stand-up
ORGANIZER;CN="CK%20Teatr%20w%20Grudzi%C4%85dzu":MAILTO:oliwia@teatr.grudziadz.pl
END:VEVENT
END:VCALENDAR