BEGIN:VCALENDAR
VERSION:2.0
PRODID:-//Centrum Kultury Teatr w Grudziądzu - ECPv4.0.5//NONSGML v1.0//EN
CALSCALE:GREGORIAN
METHOD:PUBLISH
X-WR-CALNAME:Centrum Kultury Teatr w Grudziądzu
X-ORIGINAL-URL:http://teatr.grudziadz.pl
X-WR-CALDESC:Events for Centrum Kultury Teatr w Grudziądzu
BEGIN:VEVENT
DTSTART;TZID="Europe/Warsaw":20160117T190000
DTEND;TZID="Europe/Warsaw":20160117T190000
DTSTAMP:20260422T215043
CREATED:20151218T101450
LAST-MODIFIED:20151218T101450
UID:553-1453057200-1453057200@teatr.grudziadz.pl
SUMMARY:Stare Dobre Małżeństwo – koncert poezji śpiewanej
DESCRIPTION:Legendarna grupa STARE DOBRE MAŁŻEŃSTWO wciąż przemierza koncertowe szlaki. Zespół niezmiennie złożony jest z wyśmienitych muzyków towarzyszących założycielowi oraz liderowi SDM Krzysztofowi Myszkowskiemu\, śpiewającemu swoje kultowe piosenki - od najstarszych (np. Blues o 4 nad ranem\, Jak\, Sanctus\, Bieszczadzkie Anioły) po najnowsze\, które ukazały się na płycie „Kompresja ciszy” (premiera albumu 13 kwietnia 2015).\n\nSoczyste i aromatyczne brzmienie formacji zapewnia niebanalny zestaw instrumentów wykorzystywanych podczas recitali. Uwagę słuchaczy na przeszło dwie godziny przykuć powinny: gitary 6 i 12 strunowe\, dobro\, kontrabas oraz niepowtarzalne brzmienie harmonijki ustnej.\n\nSkład zespołu:\nKRZYSZTOF MYSZKOWSKI – śpiew\, gitara\, harmonijka ustna\nBOLO PIETRASZKIEWICZ – gitary\nROMAN ZIOBRO – kontrabas\, gitara basowa\, cymbałki
URL:http://teatr.grudziadz.pl/wydarzenie/stare-dobre-malzenstwo-koncert-poezji-spiewanej/
LOCATION:Teatralna\, 1\, Grudziądz\, 86-300\, Polska
CATEGORIES:Koncert
ATTACH;FMTTYPE=image/jpeg:http://teatr.grudziadz.pl/wp-content/uploads/2015/12/sdm1.jpg
END:VEVENT
END:VCALENDAR