BEGIN:VCALENDAR
VERSION:2.0
PRODID:-//Centrum Kultury Teatr w Grudziądzu - ECPv4.0.5//NONSGML v1.0//EN
CALSCALE:GREGORIAN
METHOD:PUBLISH
X-WR-CALNAME:Centrum Kultury Teatr w Grudziądzu
X-ORIGINAL-URL:http://teatr.grudziadz.pl
X-WR-CALDESC:Events for Centrum Kultury Teatr w Grudziądzu
BEGIN:VEVENT
DTSTART;TZID="Europe/Warsaw":20200229T190000
DTEND;TZID="Europe/Warsaw":20200229T190000
DTSTAMP:20260422T080743
CREATED:20190819T111434
LAST-MODIFIED:20200113T100136
UID:17676-1583002800-1583002800@teatr.grudziadz.pl
SUMMARY:Widowisko muzyki i tańca „Usłyszeć Taniec” – mistrzowie stepowania
DESCRIPTION:USŁYSZEĆ TANIEC to widowisko różnych form stepowania: flamenco\, stepu irlandzkiego\, amerykańskiego\, tańca współczesnego oraz muzyki ethnojazzowej granej na żywo. Barwny spektakl\, w którym taniec jest częścią muzyki\, a muzyka – tańca. Różne kultury spotykają się w jednym miejscu\, a tradycja i współczesność to synonimy. Projekt tworzą wybitni tancerze i muzycy\, soliści widowisk w Europie i USA. Od premiery w 2014r. odbyło się ponad 150 spektakli\, pokazów i warsztatów w największych salach widowiskowych w całej Polsce.\n[embed]https://www.youtube.com/watch?v=gsH_C6CLlyI[/embed]\nTaniec:\nKarol Drzewoszewki – step amerykański\,\nAgata Teodorczyk – flamenco\,\nMateusz Wójcik – choreografia\, reżyseria\, taniec irlandzki\,\nMuzyka:\nTomasz Biela – kierownictwo muzyczne\, gitara\, akustyczna\, elektryczna\, jazzowa\,\nEwelina Grygier – drewniany flet poprzeczny\,\nMałgorzata Mycek – wokal\, bodhran\, cajon\, perkusjonalia\,\nJakub Wagner – gitara flamenco\, cajon\,\n\n\n \n\n\n\n\n\nBilety w sprzedaży internetowej dostępne TUTAJ.\n\n 
URL:http://teatr.grudziadz.pl/wydarzenie/uslyszec-taniec-flamenco-irish-dance-tap-dance-ethnojazz/
LOCATION:Teatralna\, 1\, Grudziądz\, 86-300\, Polska
CATEGORIES:Koncert,Spektakle
ATTACH;FMTTYPE=image/jpeg:http://teatr.grudziadz.pl/wp-content/uploads/2019/08/Grudziądz-usłyszeć-taniec-2.jpg
ORGANIZER;CN="CK%20Teatr%20w%20Grudzi%C4%85dzu":MAILTO:oliwia@teatr.grudziadz.pl
END:VEVENT
END:VCALENDAR