BEGIN:VCALENDAR
VERSION:2.0
PRODID:-//Centrum Kultury Teatr w Grudziądzu - ECPv4.0.5//NONSGML v1.0//EN
CALSCALE:GREGORIAN
METHOD:PUBLISH
X-WR-CALNAME:Centrum Kultury Teatr w Grudziądzu
X-ORIGINAL-URL:http://teatr.grudziadz.pl
X-WR-CALDESC:Events for Centrum Kultury Teatr w Grudziądzu
BEGIN:VEVENT
DTSTART;TZID="Europe/Warsaw":20210207T120000
DTEND;TZID="Europe/Warsaw":20210207T120000
DTSTAMP:20260422T073620
CREATED:20210119T112350
LAST-MODIFIED:20210205T092945
UID:22942-1612699200-1612699200@teatr.grudziadz.pl
SUMMARY:W muzyce zaklęci
DESCRIPTION:\nW muzyce zaklęci” to cykl krótkich wywiadów\, rozmów z osobami\, które zakochane w muzyce\, poświęciły swój czas i energię na udział w amatorskim zespole muzycznym głównie chóralnym\, ale nie tylko.\n\n\n\nCykl ma na celu uświadomienie słuchaczom jak pozytywny wpływ na rozwój człowieka ma kontakt z muzyką. To nie tylko pokonywanie lęku przed występami na scenie\, kształtowanie wrażliwości muzycznej\, odkrywanie własnych ograniczeń i ich przełamywanie\, ale także nawiązywanie przyjaźni\, a nawet odnajdywanie miłości swego życia.\n\n\n\nZapraszamy w imieniu twórców cyklu:\n\nEwelina Dąbrowska\, Ilona Mroczkowska\, Tomasz Jędrzejczyk i Tadeusz Zakrzewski na kolejny odcinek.\n\n\n\n\n\n
URL:http://teatr.grudziadz.pl/wydarzenie/w-muzyce-zakleci-2/
LOCATION:Teatralna\, 1\, Grudziądz\, 86-300\, Polska
CATEGORIES:Koncert
ATTACH;FMTTYPE=image/jpeg:http://teatr.grudziadz.pl/wp-content/uploads/2021/01/wmuzyce-zkleci1-2.jpg
ORGANIZER;CN="CK%20Teatr%20w%20Grudzi%C4%85dzu":MAILTO:oliwia@teatr.grudziadz.pl
END:VEVENT
END:VCALENDAR