BEGIN:VCALENDAR
VERSION:2.0
PRODID:-//Centrum Kultury Teatr w Grudziądzu - ECPv4.0.5//NONSGML v1.0//EN
CALSCALE:GREGORIAN
METHOD:PUBLISH
X-WR-CALNAME:Centrum Kultury Teatr w Grudziądzu
X-ORIGINAL-URL:http://teatr.grudziadz.pl
X-WR-CALDESC:Events for Centrum Kultury Teatr w Grudziądzu
BEGIN:VEVENT
DTSTART;TZID="Europe/Warsaw":20160118T080000
DTEND;TZID="Europe/Warsaw":20160122T080000
DTSTAMP:20260422T215043
CREATED:20160321T105537
LAST-MODIFIED:20160321T105855
UID:2422-1453104000-1453449600@teatr.grudziadz.pl
SUMMARY:Warsztaty teatralne – prowadzenie Zbigniew Kulwicki
DESCRIPTION:Od 18 – 22 stycznia\, w godzinach od 10.00 do 13.00. \n\nKolejna propozycja CK Teatr to zajęcia na scenie. I tu ponownie zapraszamy nie tylko tych\, którzy wykazują szczególne zainteresowanie teatrem\, bowiem całość skierowana jest do szerokiego grona młodych ludzi. Spotkania prowadzić będzie reżyser bajek Zbigniew Kulwicki\, który przekaże uczestnikom część swojej teatralnej wiedzy.\n\nTakie spotkania są zawsze doskonałą okazją do przełamania strachu przed publicznymi występami\, poćwiczyć będzie można dykcję oraz sprawdzić swoje\, być może ukryte\, talenty aktorskie. Zapraszamy młodych ludzi w wieku od 14 do 21 lat.\n\nZbyszek Kulwicki – reżyser\, aktor\, animator zajęć teatralnych dla dzieci i młodzieży.\n\nZapisy pod numerem telefonu 56 46 209 27 
URL:http://teatr.grudziadz.pl/wydarzenie/warsztaty-teatralne-prowadzenie-zbigniew-kulwicki/
LOCATION:Teatralna\, 1\, Grudziądz\, 86-300\, Polska
CATEGORIES:Spektakle
ORGANIZER;CN="CK%20Teatr%20w%20Grudzi%C4%85dzu":MAILTO:szymon.r@teatr.grudziadz.pl
END:VEVENT
END:VCALENDAR