BEGIN:VCALENDAR
VERSION:2.0
PRODID:-//Centrum Kultury Teatr w Grudziądzu - ECPv4.0.5//NONSGML v1.0//EN
CALSCALE:GREGORIAN
METHOD:PUBLISH
X-WR-CALNAME:Centrum Kultury Teatr w Grudziądzu
X-ORIGINAL-URL:http://teatr.grudziadz.pl
X-WR-CALDESC:Events for Centrum Kultury Teatr w Grudziądzu
BEGIN:VEVENT
DTSTART;TZID="Europe/Warsaw":20240224T180000
DTEND;TZID="Europe/Warsaw":20240225T180000
DTSTAMP:20260419T220653
CREATED:20231113T113617
LAST-MODIFIED:20240308T184928
UID:43876-1708797600-1708884000@teatr.grudziadz.pl
SUMMARY:Warsztaty wokalne Gospel z Brianem Fentressem
DESCRIPTION:Zapisy od 1 GRUDNIA – ilość miejsc ograniczona\n\nWszystkich\, którzy chcieliby rozwijać swoje umiejętności wokalne oraz sprawdzić się na scenie Klubu Akcent zapraszamy na jedyne w swoim rodzaju\, niepowtarzalne warsztaty GOSPEL. Zajęcia warsztatowe poprowadzi amerykański wokalista\, wykładowca Akademii Muzycznej w Łodzi Brian Fentress.\nSwobodnie poruszający się w gatunkach pop\, soul\, R&B\, gospel\, jazz i funk. Wybitne umiejętności\, niewyczerpana energia\, ogromna charyzma – to tylko kilka cech Brian'a. Zatem takie spotkanie może być nie tylko świetną okazją do rozwoju\, ale także niezapomnianą przygodą.\n\nDwudniowe zajęcia i ciężką warsztatową pracę zakończy koncert z udziałem wykładowcy\, uczestników oraz zespołu w składzie: Tomasz Gust\, Jakub Hausman\, Paweł Iwański.\n\nKoncert odbędzie się w niedzielę o godz. 18.00\n\nOrganizatorzy:\n* Zespół KMF\n* Fundacja „Pierwsze skrzypce"\n* Klub Akcent\n\nWszelkie informacje - kordynator Dorota Berent\nwarsztatgospelgrudziadz@gmail.com
URL:http://teatr.grudziadz.pl/wydarzenie/warsztaty-wokalne-gospel-z-dorota-berent/
LOCATION:ul. Wybickiego 38
CATEGORIES:Warsztaty
ATTACH;FMTTYPE=image/jpeg:http://teatr.grudziadz.pl/wp-content/uploads/2023/11/79383969_2689970427704675_8182574626354757632_n-e1709923764135.jpeg
ORGANIZER;CN="CK%20Teatr%20w%20Grudzi%C4%85dzu":MAILTO:oliwia@teatr.grudziadz.pl
END:VEVENT
END:VCALENDAR