BEGIN:VCALENDAR
VERSION:2.0
PRODID:-//Centrum Kultury Teatr w Grudziądzu - ECPv4.0.5//NONSGML v1.0//EN
CALSCALE:GREGORIAN
METHOD:PUBLISH
X-WR-CALNAME:Centrum Kultury Teatr w Grudziądzu
X-ORIGINAL-URL:http://teatr.grudziadz.pl
X-WR-CALDESC:Events for Centrum Kultury Teatr w Grudziądzu
BEGIN:VEVENT
DTSTART;TZID="Europe/Warsaw":20200430T190000
DTEND;TZID="Europe/Warsaw":20200430T190000
DTSTAMP:20260422T203059
CREATED:20200502T083717
LAST-MODIFIED:20200502T083717
UID:20759-1588273200-1588273200@teatr.grudziadz.pl
SUMMARY:Wirtualny  DKF – plenerowa rekomendacja (w sieci)
DESCRIPTION:Zapraszamy do obejrzenia rekomendacji Mariusza Żebrowskiego.\n\nhttps://business.facebook.com/dkfgrudziadz/videos/240498850364826/
URL:http://teatr.grudziadz.pl/wydarzenie/wirtualny-dkf-plenerowa-rekomendacja-w-sieci/
LOCATION:Teatralna\, 1\, Grudziądz\, 86-300\, Polska
CATEGORIES:Koncert
ORGANIZER;CN="CK%20Teatr%20w%20Grudzi%C4%85dzu":MAILTO:oliwia@teatr.grudziadz.pl
END:VEVENT
END:VCALENDAR