BEGIN:VCALENDAR
VERSION:2.0
PRODID:-//Centrum Kultury Teatr w Grudziądzu - ECPv4.0.5//NONSGML v1.0//EN
CALSCALE:GREGORIAN
METHOD:PUBLISH
X-WR-CALNAME:Centrum Kultury Teatr w Grudziądzu
X-ORIGINAL-URL:http://teatr.grudziadz.pl
X-WR-CALDESC:Events for Centrum Kultury Teatr w Grudziądzu
BEGIN:VEVENT
DTSTART;TZID="Europe/Warsaw":20211121T120000
DTEND;TZID="Europe/Warsaw":20211121T120000
DTSTAMP:20260422T011337
CREATED:20211008T120357
LAST-MODIFIED:20211008T120357
UID:25792-1637496000-1637496000@teatr.grudziadz.pl
SUMMARY:Wręczenie nagrody ks. Pasierba
DESCRIPTION:\nwkrótce
URL:http://teatr.grudziadz.pl/wydarzenie/wreczenie-nagrody-ks-pasierba/
LOCATION:Teatralna\, 1\, Grudziądz\, 86-300\, Polska
CATEGORIES:Koncert
ORGANIZER;CN="CK%20Teatr%20w%20Grudzi%C4%85dzu":MAILTO:oliwia@teatr.grudziadz.pl
END:VEVENT
END:VCALENDAR