BEGIN:VCALENDAR
VERSION:2.0
PRODID:-//Centrum Kultury Teatr w Grudziądzu - ECPv4.0.5//NONSGML v1.0//EN
CALSCALE:GREGORIAN
METHOD:PUBLISH
X-WR-CALNAME:Centrum Kultury Teatr w Grudziądzu
X-ORIGINAL-URL:http://teatr.grudziadz.pl
X-WR-CALDESC:Events for Centrum Kultury Teatr w Grudziądzu
BEGIN:VEVENT
DTSTART;TZID="Europe/Warsaw":20200501T160000
DTEND;TZID="Europe/Warsaw":20200501T160000
DTSTAMP:20260422T170805
CREATED:20200502T083919
LAST-MODIFIED:20200502T083919
UID:20760-1588348800-1588348800@teatr.grudziadz.pl
SUMMARY:Wspomnienie PRL w Teatrze „Uwikłany w karnet” (w sieci)
DESCRIPTION:Tegoroczna Grudziądzka Wiosna Teatralna została odwołana\, ale mamy wiele wspomnień festiwalowych z lat poprzednich. Jednym z nich jest sezon\, gdy hasłem przewodnim był „PRL w TEATRZE” - zaproponowaliśmy wtedy naszym widzom grę terenową\, gdzie wygrać można było karnet na wszystkie festiwalowe przedstawienia. Wtedy to przenieśliśmy się w czasie i powstał film „Uwikłany w karnet”.\n\n[embed]https://www.youtube.com/watch?v=GCF0yO2e1_s&t=477s%20[/embed]
URL:http://teatr.grudziadz.pl/wydarzenie/wspomnienie-prl-w-teatrze-uwiklany-w-karnet-w-sieci/
LOCATION:Teatralna\, 1\, Grudziądz\, 86-300\, Polska
CATEGORIES:Koncert
ORGANIZER;CN="CK%20Teatr%20w%20Grudzi%C4%85dzu":MAILTO:oliwia@teatr.grudziadz.pl
END:VEVENT
END:VCALENDAR