BEGIN:VCALENDAR
VERSION:2.0
PRODID:-//Centrum Kultury Teatr w Grudziądzu - ECPv4.0.5//NONSGML v1.0//EN
CALSCALE:GREGORIAN
METHOD:PUBLISH
X-WR-CALNAME:Centrum Kultury Teatr w Grudziądzu
X-ORIGINAL-URL:http://teatr.grudziadz.pl
X-WR-CALDESC:Events for Centrum Kultury Teatr w Grudziądzu
BEGIN:VEVENT
DTSTART;TZID="Europe/Warsaw":20211118T180000
DTEND;TZID="Europe/Warsaw":20211118T180000
DTSTAMP:20260422T025136
CREATED:20211008T115928
LAST-MODIFIED:20211020T113837
UID:25791-1637258400-1637258400@teatr.grudziadz.pl
SUMMARY:Wernisaż wystawy: Mikołaj Harmoza – malarstwo & performance
DESCRIPTION:Mikołaj Amadeusz Harmoza\nJestem niezależnym artystą malarzem. Zajmuję się głównie malarstwem i rysunkiem\, chociaż moje zainteresowania i aktywność artystyczna dotyczą również sztuk projektowych i performance.\nOd 2002 roku prowadzę Pracownię Rysunku Współczesnego dla kierunków projektowych w Akademii Sztuk Pięknych w Gdańsku. W 2012 roku na Akademii Sztuk Pięknych w Łodzi otrzymałem tytuł doktora sztuk plastycznych\, w dyscyplinie sztuk pięknych\, broniąc pracy pt. „Okolice portretu”.\nJestem autorem wielu cyklów obrazów\, wystaw i sytuacji performatywnych\, murali\, akcji artystycznych. Aktualnie realizuję projekty  nawiązujące w swojej formie do malarstwa ale bliskie sytuacjom performatywnym  i teatralnym. Dzięki wyjściu w kierunku obserwatora  malarstwo staje się dla mnie bardzo wyjątkowym sposobem komunikowania się ze społeczeństwem. Docieram do takich odbiorców którzy na co dzień nie odwiedzają galerii sztuki z różnych powodów( Niewidomi\, kibice\,inne grupy społeczne).\n\nMoje malarstwo\, nawet jeśli jest pokazywane w ciemności (Sztuka Niewidzenia)\, wywołuje specyficzny rodzaj refleksji (czy też reakcji) adekwatnych do sprowokowanej sytuacji w realizowanym projekcie.\n\n\n\nSwoje obrazy często prezentuję poza tradycyjnymi galeriami sztuki („Galering”- Walka bokserska połączona z wernisażem\, Sztuka Niewidzenia 1. 2.)\, „To jest wolność”\, „Sztuka bez dodatków”) \,w przestrzeniach publicznych\, czy  we własnej pracowni zyskując w ten sposób pełną niezależność artystyczną i łączy z nowymi formami prezentacji oraz inną technologią \, tematyką \, skalą i dynamiką pracy. Taką formę działania nazwałem Galeringiem.\nMam wiele zainteresowań. Lubię życie\, nie boję się śmierci.\n\nMikołaj Harmoza - „Szalonek- Dialog\, inspiracja”.\nGrudziądz\n\n[gallery ids="26263\,26264\,26265"]\n\nCzas - Przeszłość\, teraźniejszość i przyszłość.\n\n„Szalonek - dialog\, inspiracja” to  sytuacja wernisażowa\, która łączy trzy odrębne w czasie elementy związane z performencem wykonanym przeze mnie  podczas pandemii.\n* Zarejestrowane wideo autorstwa Pawła Czarzastego przywołuje moment\, który zdarzył się w przeszłości.\n* Prezentowana na wernisażu praca\, będąca efektem performancu buduje teraźniejszość.\n* W przyszłości możemy odsłuchać płyty z muzyką\, której szata graficzna nawiązuje do performancu. Płyta jest do nabycia podczas wernisażu. Inspiracją jest utwór Witolda Szalonka pt. „2. Szkic na harfę solo”\n\nMalowanie jako czynność.\n\nSamotność\, wywołana pandemią była okazją do działania w innych warunkach. Działanie bez publiczności sprawia\, że pojawia się  okazja  by przyjrzeć się sobie oraz czynności\, którą wykonuje się malując codzienne kompozycje o różnorakich tytułach i ideach. Takie resumee pozwala stwierdzić\, czym jest ta  czynność dla samego  artysty.\n\nPodczas performance muzyka stała się dla mnie rytmem\, który niczego nie wymusza\, ale prowokuje i zachęca do pewnych odruchów ciała podobnych do tańca\, a tu związanych ściśle z czynnością malowania. Czym jest dla mnie sama czynność malowania?  Czy to naprawdę moja pasja? Może jakiś atawizm\, odruch\, droga\, rytm ciała\, ukryta natura\, reakcja na bodźce? Codzienne malowanie to dla mnie dbałość o jakość koloru\, formy\, ekspresji… . To wywoływanie uczuć własnych\, dialog z innymi twórcami\, wspomnienia\, relacje\,  wywoływanie  uczuć odbiorców i przekonywanie o profesjonalizmie oraz własnym   warsztacie.\n\nTe wszystkie obciążające artystę problemy miały wolne podczas mojej akcji. Sama czynność stała się istotna i to na nią zwróciłem uwagę. Odbiorcy nie było\, tak więc mogłem  oddać się płynnej\, melancholijnej atmosferze aby zarejestrować ślady swojej  aktywności podczas czynności malowania. Bez formy\, bez kształtów\, bez zamierzonej  iluzji przestrzeni…\n\nTa czystość odruchów zarejestrowana kamerą odnosi się do  jednej chwili i może być przywołana w przyszłości.  Dziś  wiem  jak to jest i takie doświadczenie pozwoli mi zwiększyć dystans do własnych działań. Muzyka powoduje swego rodzaju odcięcie od rzeczywistości i dialog z zapewne równie samotnym w chwili tworzenia twórcą. Czystość takiej chwili jest cenna jako doświadczenie i zwiększa świadomość tego\, w jakim celu wykonuje się podobne czynności na co dzień.
URL:http://teatr.grudziadz.pl/wydarzenie/wystawa-4/
LOCATION:ul. Wybickiego 38\, Grudziądz
CATEGORIES:Wystawy
ATTACH;FMTTYPE=image/jpeg:http://teatr.grudziadz.pl/wp-content/uploads/2021/10/harmoza4.jpg
ORGANIZER;CN="CK%20Teatr%20w%20Grudzi%C4%85dzu":MAILTO:oliwia@teatr.grudziadz.pl
END:VEVENT
END:VCALENDAR