BEGIN:VCALENDAR
VERSION:2.0
PRODID:-//Centrum Kultury Teatr w Grudziądzu - ECPv4.0.5//NONSGML v1.0//EN
CALSCALE:GREGORIAN
METHOD:PUBLISH
X-WR-CALNAME:Centrum Kultury Teatr w Grudziądzu
X-ORIGINAL-URL:http://teatr.grudziadz.pl
X-WR-CALDESC:Events for Centrum Kultury Teatr w Grudziądzu
BEGIN:VEVENT
DTSTART;TZID="Europe/Warsaw":20201210T180000
DTEND;TZID="Europe/Warsaw":20201210T180000
DTSTAMP:20260422T000358
CREATED:20201125T125424
LAST-MODIFIED:20210104T100121
UID:22548-1607623200-1607623200@teatr.grudziadz.pl
SUMMARY:Wystawa prac plastycznych – pracownia plastyczna „Kredka” - online
DESCRIPTION:Młodzi adepci sztuki na co dzień szlifujący swój talent plastyczny w teatralnej pracowni plastycznej „Kredka” mają zaszczyt zaprosić na wirtualną prezentację swoich artystycznych poczynań. Są młodzi\, zdolni i bardzo lubią spędzać czas przed sztalugą lub z blokiem rysunkowym i kredką w ręku\, mają głowę pełną pomysłów – ograniczają ich tylko granice wyobraźni.\n\n[gallery ids="22551\,22552\,22550"]\n\nWystawa będzie podsumowaniem działalności podopiecznych pracowni w sezonie 2019/2020\, a był  to czas intensywnej pracy\, który ze względów pandemicznych nie zakończył się żadną ekspozycją. Zatem grudniowy pokaz będzie jedyną okazją\, aby zobaczyć efekty ich pracy. Spośród setek rysunków\, prac malarskich oraz technik mieszanych wybrane zostały te najciekawsze\, które przykuwają uwagę dojrzałością\, radością tworzenia i odważnym twórczym korzystaniem z koloru.\n\n[gallery ids="22553\,22555\,22556"]\n\nPracownia plastyczna „Kredka” w CK Teatr działa od 18 lat pod czujnym okiem Marianny Gitner-Sawistowskiej. Przez ten czas dorobiła się wielu prestiżowych nagród i wyróżnień. Dziś\, gdy ze względów pandemicznych młodzi adepci sztuki nie mogą spotykać się na zajęciach\, artystycznie realizują się we własnych domach inspirowani lekcjami plastyki online w cyklu „Sztuka Cię szuka”.\n\n[gallery columns="2" ids="22549\,22554"]\n\n \n[button link="http://teatr.grudziadz.pl/10-12-wernisaz-prac-pracowni-pracowni-kredka/" type="big"] GALERIA ZDJĘĆ[/button]\n[button link="https://youtu.be/ldQteIw54sE" type="big" newwindow="yes"] RELACJA ON-LINE[/button]\n\n 
URL:http://teatr.grudziadz.pl/wydarzenie/wystawa-prac-plastycznych-pracownia-plastyczna-kredka/
LOCATION:ul. Wybickiego 38
CATEGORIES:Wystawy
ATTACH;FMTTYPE=image/jpeg:http://teatr.grudziadz.pl/wp-content/uploads/2020/11/IMG-20201125-WA0009.jpg
ORGANIZER;CN="CK%20Teatr%20w%20Grudzi%C4%85dzu":MAILTO:oliwia@teatr.grudziadz.pl
END:VEVENT
END:VCALENDAR