BEGIN:VCALENDAR
VERSION:2.0
PRODID:-//Centrum Kultury Teatr w Grudziądzu - ECPv4.0.5//NONSGML v1.0//EN
CALSCALE:GREGORIAN
METHOD:PUBLISH
X-WR-CALNAME:Centrum Kultury Teatr w Grudziądzu
X-ORIGINAL-URL:http://teatr.grudziadz.pl
X-WR-CALDESC:Events for Centrum Kultury Teatr w Grudziądzu
BEGIN:VEVENT
DTSTART;TZID="Europe/Warsaw":20210206T180000
DTEND;TZID="Europe/Warsaw":20210206T180000
DTSTAMP:20260422T061812
CREATED:20210119T111102
LAST-MODIFIED:20210119T111102
UID:22930-1612634400-1612634400@teatr.grudziadz.pl
SUMMARY:Zdarte płyty
DESCRIPTION:wkrótce
URL:http://teatr.grudziadz.pl/wydarzenie/zdarte-plyty-2/
LOCATION:Teatralna\, 1\, Grudziądz\, 86-300\, Polska
CATEGORIES:Koncert
ATTACH;FMTTYPE=image/jpeg:http://teatr.grudziadz.pl/wp-content/uploads/2021/01/plyta-2.jpg
ORGANIZER;CN="CK%20Teatr%20w%20Grudzi%C4%85dzu":MAILTO:oliwia@teatr.grudziadz.pl
END:VEVENT
END:VCALENDAR